BEGIN:VCALENDAR
VERSION:2.0
PRODID:-//Peace &amp; Music - ECPv6.15.13//NONSGML v1.0//EN
CALSCALE:GREGORIAN
METHOD:PUBLISH
X-WR-CALNAME:Peace &amp; Music
X-ORIGINAL-URL:https://kathleenpeace.com
X-WR-CALDESC:Events for Peace &amp; Music
REFRESH-INTERVAL;VALUE=DURATION:PT1H
X-Robots-Tag:noindex
X-PUBLISHED-TTL:PT1H
BEGIN:VTIMEZONE
TZID:UTC
BEGIN:STANDARD
TZOFFSETFROM:+0000
TZOFFSETTO:+0000
TZNAME:UTC
DTSTART:20250101T000000
END:STANDARD
END:VTIMEZONE
BEGIN:VEVENT
DTSTART;TZID=UTC:20260106T160000
DTEND;TZID=UTC:20260106T190000
DTSTAMP:20260421T195847
CREATED:20251212T161349Z
LAST-MODIFIED:20251212T161349Z
UID:2032-1767715200-1767726000@kathleenpeace.com
SUMMARY:Miramar outlets\, The fountains by Michael kors
DESCRIPTION:Enjoy an afternoon of cocktails\, great food\, terrific sales\, and also fabulous music with me. Stop by and sing one!
URL:https://kathleenpeace.com/events/miramar-outlets-the-fountains-by-michael-kors/
ATTACH;FMTTYPE=image/jpeg:https://kathleenpeace.com/wp-content/uploads/2025/06/Messenger_creation_31B4232D-0CC2-4CFE-8A93-2A5AB6B28CDF.jpeg
END:VEVENT
END:VCALENDAR