BEGIN:VCALENDAR
VERSION:2.0
PRODID:-//Peace &amp; Music - ECPv6.15.13//NONSGML v1.0//EN
CALSCALE:GREGORIAN
METHOD:PUBLISH
X-ORIGINAL-URL:https://kathleenpeace.com
X-WR-CALDESC:Events for Peace &amp; Music
REFRESH-INTERVAL;VALUE=DURATION:PT1H
X-Robots-Tag:noindex
X-PUBLISHED-TTL:PT1H
BEGIN:VTIMEZONE
TZID:UTC
BEGIN:STANDARD
TZOFFSETFROM:+0000
TZOFFSETTO:+0000
TZNAME:UTC
DTSTART:20250101T000000
END:STANDARD
END:VTIMEZONE
BEGIN:VEVENT
DTSTART;TZID=UTC:20260307T180000
DTEND;TZID=UTC:20260307T210000
DTSTAMP:20260421T163609
CREATED:20251024T225302Z
LAST-MODIFIED:20260214T015852Z
UID:1996-1772906400-1772917200@kathleenpeace.com
SUMMARY:Island house
DESCRIPTION:I’ll be performing with brycream from 6:00 to 9:00 at the island house 3801 Bonita Beach road in Bonita Springs. See you there!
URL:https://kathleenpeace.com/events/another-private-party/
LOCATION:By Invitation
ATTACH;FMTTYPE=image/jpeg:https://kathleenpeace.com/wp-content/uploads/2025/04/Messenger_creation_56A10EF4-BA71-4C6E-A6F3-B07A2C0A3D2D.jpeg
END:VEVENT
END:VCALENDAR