BEGIN:VCALENDAR
VERSION:2.0
PRODID:-//Peace &amp; Music - ECPv6.15.13//NONSGML v1.0//EN
CALSCALE:GREGORIAN
METHOD:PUBLISH
X-ORIGINAL-URL:https://kathleenpeace.com
X-WR-CALDESC:Events for Peace &amp; Music
REFRESH-INTERVAL;VALUE=DURATION:PT1H
X-Robots-Tag:noindex
X-PUBLISHED-TTL:PT1H
BEGIN:VTIMEZONE
TZID:UTC
BEGIN:STANDARD
TZOFFSETFROM:+0000
TZOFFSETTO:+0000
TZNAME:UTC
DTSTART:20250101T000000
END:STANDARD
END:VTIMEZONE
BEGIN:VEVENT
DTSTART;TZID=UTC:20260416T180000
DTEND;TZID=UTC:20260416T210000
DTSTAMP:20260421T151028
CREATED:20260410T003710Z
LAST-MODIFIED:20260410T003710Z
UID:2107-1776362400-1776373200@kathleenpeace.com
SUMMARY:Nauti Parrot
DESCRIPTION:Come join the fun from 6:00 to 9:00 at the nauti parrot on US! 41. \n 
URL:https://kathleenpeace.com/events/nauti-parrot/
ATTACH;FMTTYPE=image/png:https://kathleenpeace.com/wp-content/uploads/2026/04/IMG_20260406_205506.png
END:VEVENT
END:VCALENDAR