BEGIN:VCALENDAR
VERSION:2.0
PRODID:-//Peace &amp; Music - ECPv6.15.13//NONSGML v1.0//EN
CALSCALE:GREGORIAN
METHOD:PUBLISH
X-ORIGINAL-URL:https://kathleenpeace.com
X-WR-CALDESC:Events for Peace &amp; Music
REFRESH-INTERVAL;VALUE=DURATION:PT1H
X-Robots-Tag:noindex
X-PUBLISHED-TTL:PT1H
BEGIN:VTIMEZONE
TZID:UTC
BEGIN:STANDARD
TZOFFSETFROM:+0000
TZOFFSETTO:+0000
TZNAME:UTC
DTSTART:20250101T000000
END:STANDARD
END:VTIMEZONE
BEGIN:VEVENT
DTSTART;TZID=UTC:20260420T180000
DTEND;TZID=UTC:20260420T210000
DTSTAMP:20260421T152017
CREATED:20260410T003839Z
LAST-MODIFIED:20260410T003839Z
UID:2109-1776708000-1776718800@kathleenpeace.com
SUMMARY:Daddy dees
DESCRIPTION:A parking lot concert not to be missed
URL:https://kathleenpeace.com/events/daddy-dees/
ATTACH;FMTTYPE=image/jpeg:https://kathleenpeace.com/wp-content/uploads/2026/01/FB_IMG_1769085151420.jpg
END:VEVENT
END:VCALENDAR