BEGIN:VCALENDAR
VERSION:2.0
PRODID:-//Peace &amp; Music - ECPv6.15.13//NONSGML v1.0//EN
CALSCALE:GREGORIAN
METHOD:PUBLISH
X-ORIGINAL-URL:https://kathleenpeace.com
X-WR-CALDESC:Events for Peace &amp; Music
REFRESH-INTERVAL;VALUE=DURATION:PT1H
X-Robots-Tag:noindex
X-PUBLISHED-TTL:PT1H
BEGIN:VTIMEZONE
TZID:UTC
BEGIN:STANDARD
TZOFFSETFROM:+0000
TZOFFSETTO:+0000
TZNAME:UTC
DTSTART:20210101T000000
END:STANDARD
END:VTIMEZONE
BEGIN:VEVENT
DTSTART;TZID=UTC:20230403T150000
DTEND;TZID=UTC:20230403T160000
DTSTAMP:20260422T123717
CREATED:20230302T135323Z
LAST-MODIFIED:20230302T141952Z
UID:952-1680534000-1680537600@kathleenpeace.com
SUMMARY:Tea is Served! at Marbella Isle\, Naples
DESCRIPTION:
URL:https://kathleenpeace.com/events/tea-is-served-at-marbella-isle/
LOCATION:By Invitation
CATEGORIES:Guest Appearance,Solo Performance
ATTACH;FMTTYPE=image/jpeg:https://kathleenpeace.com/wp-content/uploads/2019/02/10374516_10153460460273408_8084952851961975004_n.jpg
END:VEVENT
BEGIN:VEVENT
DTSTART;TZID=UTC:20230328T173000
DTEND;TZID=UTC:20230328T193000
DTSTAMP:20260422T123717
CREATED:20230317T154734Z
LAST-MODIFIED:20230317T154734Z
UID:970-1680024600-1680031800@kathleenpeace.com
SUMMARY:An Outdoors Concert with Me and The Brylcream Boy's
DESCRIPTION:Bring a chair!\n\n\n\nNectar Lab Coffee & Kava Bar\n\n\n5:30 PM\n7:30 PM\n\n\n🥇 Nectar Lab Coffee & Kava Bar\, 15495 Tamiami Trail N #106\, Naples\, FL 34110\, USA
URL:https://kathleenpeace.com/events/an-outdoors-concert-with-me-and-the-brylcream-boys/
LOCATION:A Members Only
CATEGORIES:Guest Appearance
ATTACH;FMTTYPE=image/jpeg:https://kathleenpeace.com/wp-content/uploads/2022/11/79919394_10218423425069389_6429697300607533056_n.jpg
END:VEVENT
BEGIN:VEVENT
DTSTART;TZID=UTC:20230312T110000
DTEND;TZID=UTC:20230312T140000
DTSTAMP:20260422T123717
CREATED:20230221T161905Z
LAST-MODIFIED:20230302T141852Z
UID:941-1678618800-1678629600@kathleenpeace.com
SUMMARY:University Village Shops in Estero
DESCRIPTION:Brunch day! Merriment around the fountain… Enjoy dining and fabulous cocktails\, along with peace and music.
URL:https://kathleenpeace.com/events/university-village-shops/
LOCATION:Open to Everyone!
CATEGORIES:Guest Appearance,Vocal Entertainer for the evening
ATTACH;FMTTYPE=image/jpeg:https://kathleenpeace.com/wp-content/uploads/2022/08/MIC.jpg
END:VEVENT
BEGIN:VEVENT
DTSTART;TZID=UTC:20230302T173000
DTEND;TZID=UTC:20230302T203000
DTSTAMP:20260422T123717
CREATED:20230209T194308Z
LAST-MODIFIED:20230302T135854Z
UID:934-1677778200-1677789000@kathleenpeace.com
SUMMARY:Doowop night with Me and the Brylcream Boys!!!
DESCRIPTION:Performing for the public at the Nectar Lab Coffee &Kava Bar in Naples.
URL:https://kathleenpeace.com/events/brylcream/
LOCATION:A Members Only
CATEGORIES:Guest Appearance
ATTACH;FMTTYPE=image/jpeg:https://kathleenpeace.com/wp-content/uploads/2022/11/79919394_10218423425069389_6429697300607533056_n.jpg
END:VEVENT
BEGIN:VEVENT
DTSTART;TZID=UTC:20230218T183000
DTEND;TZID=UTC:20230218T183000
DTSTAMP:20260422T123717
CREATED:20220808T001009Z
LAST-MODIFIED:20221028T185016Z
UID:810-1676745000-1676745000@kathleenpeace.com
SUMMARY:Rhythm House
DESCRIPTION:Appearing with the Brylcream Boys! A 5 piece nostalgic Do Wop Group
URL:https://kathleenpeace.com/events/rhythm-house-3/
LOCATION:Open to Everyone!
CATEGORIES:Guest Appearance,Vocal Entertainer for the evening
ATTACH;FMTTYPE=image/jpeg:https://kathleenpeace.com/wp-content/uploads/2022/08/1234111096970782668.jpg
END:VEVENT
BEGIN:VEVENT
DTSTART;TZID=UTC:20230214T063000
DTEND;TZID=UTC:20230214T213000
DTSTAMP:20260422T123717
CREATED:20230209T193841Z
LAST-MODIFIED:20230209T193841Z
UID:932-1676356200-1676410200@kathleenpeace.com
SUMMARY:A valentine Dance with Brylcream
DESCRIPTION:Happy Valentines Day!
URL:https://kathleenpeace.com/events/a-valentine-dance-with-brylcream/
LOCATION:By Invitation
CATEGORIES:Guest Appearance
ATTACH;FMTTYPE=image/jpeg:https://kathleenpeace.com/wp-content/uploads/2022/08/572775410740783615.jpg
END:VEVENT
BEGIN:VEVENT
DTSTART;TZID=UTC:20230203T180000
DTEND;TZID=UTC:20230203T220000
DTSTAMP:20260422T123717
CREATED:20221217T182441Z
LAST-MODIFIED:20221217T183111Z
UID:900-1675447200-1675461600@kathleenpeace.com
SUMMARY:Art Walk Downtown fort Myers
DESCRIPTION:downtown Fort Myers River District. Over a dozen participating venues and over 40 artisans showcasing their craft. Restaurants\, bars\, art galleries\, and shops will showcase the best food and drinks anywhere!!!
URL:https://kathleenpeace.com/events/art-walk-downtown-fort-myers/
LOCATION:Open to Everyone!
CATEGORIES:Come and sing one with me,Guest Appearance,Solo Performance,Vocal Entertainer for the evening
ATTACH;FMTTYPE=image/jpeg:https://kathleenpeace.com/wp-content/uploads/2022/08/artwalk2022-2.jpg
END:VEVENT
BEGIN:VEVENT
DTSTART;TZID=UTC:20230120T180000
DTEND;TZID=UTC:20230120T210000
DTSTAMP:20260422T123718
CREATED:20231219T000036Z
LAST-MODIFIED:20231219T000036Z
UID:1237-1674237600-1674248400@kathleenpeace.com
SUMMARY:River Hall
DESCRIPTION:A members only event
URL:https://kathleenpeace.com/events/river-hall/
CATEGORIES:Guest Appearance,Private Affair
ATTACH;FMTTYPE=image/jpeg:https://kathleenpeace.com/wp-content/uploads/2022/11/50556468_219833458834590_5506385825681637376_n.jpg
END:VEVENT
BEGIN:VEVENT
DTSTART;TZID=UTC:20230110T180000
DTEND;TZID=UTC:20230110T200000
DTSTAMP:20260422T123718
CREATED:20221118T154556Z
LAST-MODIFIED:20221118T154932Z
UID:869-1673373600-1673380800@kathleenpeace.com
SUMMARY:A Brylcream Concert at Nonnie's
DESCRIPTION:A Parking Lot Concert with the Brylcream Boys!                                                                                    Bring a chair\, bring a friend\, and dance until your shoes cry! \n4150 Hancock Bridge Pkwy\,  North Fort Myers
URL:https://kathleenpeace.com/events/a-brylcream-concert-at-nonnies/
CATEGORIES:Guest Appearance
ATTACH;FMTTYPE=image/jpeg:https://kathleenpeace.com/wp-content/uploads/2022/11/IMG_20221020_085803958-1-scaled.jpg
END:VEVENT
BEGIN:VEVENT
DTSTART;TZID=UTC:20221231T203000
DTEND;TZID=UTC:20230101T003000
DTSTAMP:20260422T123718
CREATED:20220719T013544Z
LAST-MODIFIED:20220806T182956Z
UID:739-1672518600-1672533000@kathleenpeace.com
SUMMARY:Riviera Golf Club
DESCRIPTION:Performing with “Brylcream” A 5 piece Nostalgic Do Wop Group
URL:https://kathleenpeace.com/events/riviera-golf-club/
LOCATION:By Invitation
CATEGORIES:Guest Appearance,Vocal Entertainer for the evening
ATTACH;FMTTYPE=image/jpeg:https://kathleenpeace.com/wp-content/uploads/2022/08/hny-scaled.jpg
END:VEVENT
BEGIN:VEVENT
DTSTART;TZID=UTC:20221227T180000
DTEND;TZID=UTC:20221227T200000
DTSTAMP:20260422T123718
CREATED:20221118T154437Z
LAST-MODIFIED:20221118T154437Z
UID:867-1672164000-1672171200@kathleenpeace.com
SUMMARY:Brylcream Concert at Nonnie's
DESCRIPTION:A Parking Lot Concert with the Brylcream Boys!                                                                                    Bring a chair\, bring a friend\, and dance until your shoes cry! \n4150 Hancock Bridge Pkwy\,  North Fort Myers
URL:https://kathleenpeace.com/events/brylcream-concert-at-nonnies/
LOCATION:Open to Everyone!
CATEGORIES:Guest Appearance
ATTACH;FMTTYPE=image/jpeg:https://kathleenpeace.com/wp-content/uploads/2022/11/IMG_20221020_085803958-3-scaled.jpg
END:VEVENT
BEGIN:VEVENT
DTSTART;TZID=UTC:20221122T180000
DTEND;TZID=UTC:20221122T200000
DTSTAMP:20260422T123718
CREATED:20221118T154210Z
LAST-MODIFIED:20221118T154210Z
UID:865-1669140000-1669147200@kathleenpeace.com
SUMMARY:Nonnie's Deli
DESCRIPTION:A Parking Lot Concert with the Brylcream Boys!                                                                                    Bring a chair\, bring a friend\, and dance until your shoes cry! \n4150 Hancock Bridge Pkwy\,  North Fort Myers \n 
URL:https://kathleenpeace.com/events/nonnies-deli/
LOCATION:Open to Everyone!
CATEGORIES:Guest Appearance
ATTACH;FMTTYPE=image/jpeg:https://kathleenpeace.com/wp-content/uploads/2022/11/IMG_20221020_085803958-3-scaled.jpg
END:VEVENT
BEGIN:VEVENT
DTSTART;TZID=UTC:20221118T183000
DTEND;TZID=UTC:20221118T213000
DTSTAMP:20260422T123718
CREATED:20220908T022620Z
LAST-MODIFIED:20221028T184648Z
UID:828-1668796200-1668807000@kathleenpeace.com
SUMMARY:Heritage Palms Poolside
DESCRIPTION:Performing with the Brylcream Boys!!!
URL:https://kathleenpeace.com/events/music-walk-downtown-fort-myers-river-district/
LOCATION:By Invitation
CATEGORIES:Guest Appearance,Vocal Entertainer for the evening
ATTACH;FMTTYPE=image/jpeg:https://kathleenpeace.com/wp-content/uploads/2022/08/1234111096970782668.jpg
END:VEVENT
BEGIN:VEVENT
DTSTART;TZID=UTC:20221031T183000
DTEND;TZID=UTC:20221031T213000
DTSTAMP:20260422T123718
CREATED:20220806T183622Z
LAST-MODIFIED:20221028T185100Z
UID:794-1667241000-1667251800@kathleenpeace.com
SUMMARY:Halloween at Heritage Palms CC
DESCRIPTION:Where all the Ghouls and Boys\, and Goblins have fun!
URL:https://kathleenpeace.com/events/flamingo-october-fest/
LOCATION:By Invitation
CATEGORIES:Guest Appearance,Vocal Entertainer for the evening
ATTACH;FMTTYPE=image/jpeg:https://kathleenpeace.com/wp-content/uploads/2022/08/572775410740783615.jpg
END:VEVENT
BEGIN:VEVENT
DTSTART;TZID=UTC:20221001T183000
DTEND;TZID=UTC:20221001T213000
DTSTAMP:20260422T123718
CREATED:20220719T012814Z
LAST-MODIFIED:20220806T174703Z
UID:732-1664649000-1664659800@kathleenpeace.com
SUMMARY:Rhythm House Tamiami Trail\, Fort Myers
DESCRIPTION:Performing with “Brylcream” A 5 piece Nostalgic Do Wop Group
URL:https://kathleenpeace.com/events/rhythm-house-2/
LOCATION:Open to Everyone!
CATEGORIES:Guest Appearance,Vocal Entertainer for the evening
ATTACH;FMTTYPE=image/jpeg:https://kathleenpeace.com/wp-content/uploads/2022/08/grease-scaled.jpg
END:VEVENT
BEGIN:VEVENT
DTSTART;TZID=UTC:20220917T180000
DTEND;TZID=UTC:20220917T210000
DTSTAMP:20260422T123718
CREATED:20220719T010133Z
LAST-MODIFIED:20220806T182157Z
UID:729-1663437600-1663448400@kathleenpeace.com
SUMMARY:Deltura Country Club
DESCRIPTION:Performing with “Brylcream” A 5 piece Nostalgic Do Wop Group
URL:https://kathleenpeace.com/events/deltura-country-club/
LOCATION:By Invitation
CATEGORIES:Guest Appearance,Vocal Entertainer for the evening
ATTACH;FMTTYPE=image/jpeg:https://kathleenpeace.com/wp-content/uploads/2022/08/572775410740783615.jpg
END:VEVENT
BEGIN:VEVENT
DTSTART;TZID=UTC:20220903T183000
DTEND;TZID=UTC:20220903T213000
DTSTAMP:20260422T123718
CREATED:20220718T234143Z
LAST-MODIFIED:20220806T174444Z
UID:725-1662229800-1662240600@kathleenpeace.com
SUMMARY:Rhythm House Tamiami Trail\, Fort Myers
DESCRIPTION:Performing with “Brylcream” A 5 piece Nostalgic Do Wop Group
URL:https://kathleenpeace.com/events/rhythm-house/
LOCATION:Open to Everyone!
CATEGORIES:Guest Appearance,Vocal Entertainer for the evening
ATTACH;FMTTYPE=image/jpeg:https://kathleenpeace.com/wp-content/uploads/2022/08/grease-scaled.jpg
END:VEVENT
END:VCALENDAR