BEGIN:VCALENDAR
VERSION:2.0
PRODID:-//Peace &amp; Music - ECPv6.15.13//NONSGML v1.0//EN
CALSCALE:GREGORIAN
METHOD:PUBLISH
X-ORIGINAL-URL:https://kathleenpeace.com
X-WR-CALDESC:Events for Peace &amp; Music
REFRESH-INTERVAL;VALUE=DURATION:PT1H
X-Robots-Tag:noindex
X-PUBLISHED-TTL:PT1H
BEGIN:VTIMEZONE
TZID:UTC
BEGIN:STANDARD
TZOFFSETFROM:+0000
TZOFFSETTO:+0000
TZNAME:UTC
DTSTART:20220101T000000
END:STANDARD
END:VTIMEZONE
BEGIN:VEVENT
DTSTART;TZID=UTC:20231022T123000
DTEND;TZID=UTC:20231022T170000
DTSTAMP:20260422T074805
CREATED:20231018T175041Z
LAST-MODIFIED:20231018T175041Z
UID:1165-1697977800-1697994000@kathleenpeace.com
SUMMARY:Ding Darling wildlife refuge festival
DESCRIPTION:A yearly benefit featuring local artisans great food beverage lots of entertainment and fun for the whole family. \nShowtime is at 2:30
URL:https://kathleenpeace.com/events/ding-darling-wildlife-refuge-festival/
CATEGORIES:Guest Appearance
ATTACH;FMTTYPE=image/jpeg:https://kathleenpeace.com/wp-content/uploads/2022/08/MIC.jpg
END:VEVENT
BEGIN:VEVENT
DTSTART;TZID=UTC:20231020T180000
DTEND;TZID=UTC:20231020T220000
DTSTAMP:20260422T074805
CREATED:20230619T230521Z
LAST-MODIFIED:20230619T230604Z
UID:1031-1697824800-1697839200@kathleenpeace.com
SUMMARY:Music Walk Downtown Fort Myers River District
DESCRIPTION:Join in the Merriment ! \nRestaurants\, Libations\, Fabulous Shopping and good Vibes!
URL:https://kathleenpeace.com/events/music-walk-downtown-fort-myers-river-district-2/
LOCATION:Downtown Fort Myers River District\, Fort Myers\, FL\, United States
CATEGORIES:Come and sing one with me,Guest Appearance
ATTACH;FMTTYPE=image/jpeg:https://kathleenpeace.com/wp-content/uploads/2022/11/50556468_219833458834590_5506385825681637376_n.jpg
END:VEVENT
BEGIN:VEVENT
DTSTART;TZID=UTC:20231018T170000
DTEND;TZID=UTC:20231018T193000
DTSTAMP:20260422T074805
CREATED:20230916T180543Z
LAST-MODIFIED:20231004T133317Z
UID:1132-1697648400-1697657400@kathleenpeace.com
SUMMARY:Brylcream doo-wop night
DESCRIPTION:A New Venue for us! \nBeginning on Wednesday Oct.18th Enchanting Shores will host a Brylcream Doo-Wop Party from 5 to 730pm \nJoin us at \nEnchanting Shores  17 Turquoise Ave. Naples\, FL 34114 \n  \n 
URL:https://kathleenpeace.com/events/marios-doo-wop-night/
LOCATION:Open to Everyone!
CATEGORIES:Guest Appearance
ATTACH;FMTTYPE=image/jpeg:https://kathleenpeace.com/wp-content/uploads/2023/09/3232251200814796500.jpg
END:VEVENT
BEGIN:VEVENT
DTSTART;TZID=UTC:20231015T130000
DTEND;TZID=UTC:20231015T160000
DTSTAMP:20260422T074805
CREATED:20230920T163307Z
LAST-MODIFIED:20230920T163307Z
UID:1142-1697374800-1697385600@kathleenpeace.com
SUMMARY:Miromar Outlets
DESCRIPTION:A day of shopping\, enjoying a bite to eat\, or a cocktail or two\, and some Peace and Music . \nI’ll see you in the Piazza! I think that means food court in Italian! ☺️ \n 
URL:https://kathleenpeace.com/events/miromar-outlets/
CATEGORIES:Guest Appearance,Solo Performance
ATTACH;FMTTYPE=image/jpeg:https://kathleenpeace.com/wp-content/uploads/2022/11/50556468_219833458834590_5506385825681637376_n.jpg
END:VEVENT
BEGIN:VEVENT
DTSTART;TZID=UTC:20231006T180000
DTEND;TZID=UTC:20231006T220000
DTSTAMP:20260422T074805
CREATED:20230523T165252Z
LAST-MODIFIED:20230615T173412Z
UID:1014-1696615200-1696629600@kathleenpeace.com
SUMMARY:Art Walk downtown Fort Myers River district
DESCRIPTION:An evening of merriment music and lots of great mayhem! \nEnjoy artisans\, fabulous restaurants and cool cocktails throughout the downtown River district. Peace & Music will be entertaining you in front of Ford’s Garage!
URL:https://kathleenpeace.com/events/art-walk-downtown-fort-myers-river-district-5/
LOCATION:Downtown Fort Myers River District\, Fort Myers\, FL\, United States
CATEGORIES:Guest Appearance,Solo Performance
ATTACH;FMTTYPE=image/jpeg:https://kathleenpeace.com/wp-content/uploads/2022/07/cropped-My-project-2.jpg
END:VEVENT
BEGIN:VEVENT
DTSTART;TZID=UTC:20230919T170000
DTEND;TZID=UTC:20230919T193000
DTSTAMP:20260422T074805
CREATED:20230715T004122Z
LAST-MODIFIED:20230918T142633Z
UID:1080-1695142800-1695151800@kathleenpeace.com
SUMMARY:Mario's! with the Brylcream Boys
DESCRIPTION:A Great Restaurant\, Fabulous Music\, and there’s always room on the dance floor!
URL:https://kathleenpeace.com/events/marios-with-the-brylcream-boys-8/
LOCATION:Open to Everyone!
CATEGORIES:Guest Appearance
ATTACH;FMTTYPE=image/jpeg:https://kathleenpeace.com/wp-content/uploads/2022/11/IMG_20221020_085803958-3-scaled.jpg
END:VEVENT
BEGIN:VEVENT
DTSTART;TZID=UTC:20230917T160000
DTEND;TZID=UTC:20230917T190000
DTSTAMP:20260422T074805
CREATED:20230715T003955Z
LAST-MODIFIED:20230715T003955Z
UID:1078-1694966400-1694977200@kathleenpeace.com
SUMMARY:Del Tura "Half way the St. Patrick's Day" Party!
DESCRIPTION:Sorry\, It’s a private affair… and it will be interesting for sure!
URL:https://kathleenpeace.com/events/del-tura-half-way-the-st-patricks-day-party/
LOCATION:A Members Only
CATEGORIES:Guest Appearance
ATTACH;FMTTYPE=image/jpeg:https://kathleenpeace.com/wp-content/uploads/2019/02/10374516_10153460460273408_8084952851961975004_n.jpg
END:VEVENT
BEGIN:VEVENT
DTSTART;TZID=UTC:20230912T170000
DTEND;TZID=UTC:20230912T193000
DTSTAMP:20260422T074805
CREATED:20230715T003636Z
LAST-MODIFIED:20230715T005018Z
UID:1076-1694538000-1694547000@kathleenpeace.com
SUMMARY:Mario's! with the Brylcream Boys
DESCRIPTION:A Great Restaurant\, Fabulous Music\, and there’s always room on the dance floor!
URL:https://kathleenpeace.com/events/marios-with-the-brylcream-boys-7/
LOCATION:Open to Everyone!
CATEGORIES:Guest Appearance
ATTACH;FMTTYPE=image/jpeg:https://kathleenpeace.com/wp-content/uploads/2012/04/harmony.jpg
END:VEVENT
BEGIN:VEVENT
DTSTART;TZID=UTC:20230909T183000
DTEND;TZID=UTC:20230909T213000
DTSTAMP:20260422T074805
CREATED:20230715T003501Z
LAST-MODIFIED:20230715T003501Z
UID:1074-1694284200-1694295000@kathleenpeace.com
SUMMARY:Rhythm House with the Brylcream Boys
DESCRIPTION:A Great Restaurant\, Fabulous Music\, and there’s always room on the dance floor!
URL:https://kathleenpeace.com/events/rhythm-house-with-the-brylcream-boys-3/
LOCATION:Open to Everyone!
CATEGORIES:Guest Appearance
ATTACH;FMTTYPE=image/jpeg:https://kathleenpeace.com/wp-content/uploads/2022/11/271931426_10224224713377971_6727856647762747333_n.jpg
END:VEVENT
BEGIN:VEVENT
DTSTART;TZID=UTC:20230905T170000
DTEND;TZID=UTC:20230905T190000
DTSTAMP:20260422T074805
CREATED:20230715T003230Z
LAST-MODIFIED:20230721T195816Z
UID:1072-1693933200-1693940400@kathleenpeace.com
SUMMARY:Vasari Country Club
DESCRIPTION: there’s always room on the dance floor!
URL:https://kathleenpeace.com/events/marios-with-the-brylcream-boys-6/
LOCATION:A Members Only
CATEGORIES:Guest Appearance,Solo Performance
ATTACH;FMTTYPE=image/jpeg:https://kathleenpeace.com/wp-content/uploads/2019/02/cropped-403821_3212992858025_1165999986_n.jpg
END:VEVENT
BEGIN:VEVENT
DTSTART;TZID=UTC:20230901T170000
DTEND;TZID=UTC:20230901T220000
DTSTAMP:20260422T074805
CREATED:20230523T165045Z
LAST-MODIFIED:20230523T165045Z
UID:1012-1693587600-1693605600@kathleenpeace.com
SUMMARY:Art Walk downtown Fort Myers River district
DESCRIPTION:An evening of merriment music and lots of great mayhem! \nEnjoy artisans\, fabulous restaurants and cool cocktails throughout the downtown River district. Peace & Music will be entertaining you in front of Ford’s Garage!
URL:https://kathleenpeace.com/events/art-walk-downtown-fort-myers-river-district-4/
LOCATION:Downtown Fort Myers River District\, Fort Myers\, FL\, United States
CATEGORIES:Come and sing one with me,Guest Appearance
ATTACH;FMTTYPE=image/jpeg:https://kathleenpeace.com/wp-content/uploads/2022/08/artwalk2022.jpg
END:VEVENT
BEGIN:VEVENT
DTSTART;TZID=UTC:20230829T170000
DTEND;TZID=UTC:20230829T193000
DTSTAMP:20260422T074805
CREATED:20230919T050013Z
LAST-MODIFIED:20230811T232116Z
UID:1068-1693328400-1693337400@kathleenpeace.com
SUMMARY:Mario's! with the Brylcream Boys
DESCRIPTION:A Great Restaurant\, Fabulous Music\, and there’s always room on the dance floor!
URL:https://kathleenpeace.com/events/marios-with-the-brylcream-boys-5/
LOCATION:Open to Everyone!
CATEGORIES:Guest Appearance
ATTACH;FMTTYPE=image/jpeg:https://kathleenpeace.com/wp-content/uploads/2022/11/50556468_219833458834590_5506385825681637376_n.jpg
END:VEVENT
BEGIN:VEVENT
DTSTART;TZID=UTC:20230829T080000
DTEND;TZID=UTC:20230829T170000
DTSTAMP:20260422T074805
CREATED:20230715T003110Z
LAST-MODIFIED:20230715T003110Z
UID:1070-1693296000-1693328400@kathleenpeace.com
SUMMARY:Mario's! with th Brylcream Boys
DESCRIPTION:A Great Restaurant\, Fabulous Music\, and there’s always room on the dance floor!
URL:https://kathleenpeace.com/events/marios-with-th-brylcream-boys/
LOCATION:Open to Everyone!
CATEGORIES:Guest Appearance
ATTACH;FMTTYPE=image/jpeg:https://kathleenpeace.com/wp-content/uploads/2022/08/1234111096970782668.jpg
END:VEVENT
BEGIN:VEVENT
DTSTART;TZID=UTC:20230826T183000
DTEND;TZID=UTC:20230826T213000
DTSTAMP:20260422T074805
CREATED:20230715T002859Z
LAST-MODIFIED:20230715T002859Z
UID:1066-1693074600-1693085400@kathleenpeace.com
SUMMARY:Rhythm House with the Brylcream Boys
DESCRIPTION:A Great Restaurant\, Fabulous Music\, and there’s always room on the dance floor!
URL:https://kathleenpeace.com/events/rhythm-house-with-the-brylcream-boys-2/
LOCATION:Open to Everyone!
CATEGORIES:Guest Appearance
ATTACH;FMTTYPE=image/jpeg:https://kathleenpeace.com/wp-content/uploads/2022/08/572775410740783615.jpg
END:VEVENT
BEGIN:VEVENT
DTSTART;TZID=UTC:20230822T170000
DTEND;TZID=UTC:20230822T190000
DTSTAMP:20260422T074806
CREATED:20230715T002728Z
LAST-MODIFIED:20230721T195936Z
UID:1064-1692723600-1692730800@kathleenpeace.com
SUMMARY:Vasari Country Club
DESCRIPTION: there’s always room on the dance floor!
URL:https://kathleenpeace.com/events/marios-with-the-brylcream-boys-4/
LOCATION:A Members Only
CATEGORIES:Guest Appearance,Solo Performance
ATTACH;FMTTYPE=image/jpeg:https://kathleenpeace.com/wp-content/uploads/2022/11/738261_4657571631059_691063061_o.jpg
END:VEVENT
BEGIN:VEVENT
DTSTART;TZID=UTC:20230818T180000
DTEND;TZID=UTC:20230818T220000
DTSTAMP:20260422T074806
CREATED:20230615T174209Z
LAST-MODIFIED:20230615T174637Z
UID:1028-1692381600-1692396000@kathleenpeace.com
SUMMARY:Music walk in downtown Fort Myers River district
DESCRIPTION:Surround yourself with the sounds of musical mayhem. Street performers are everywhere\, on every corner. Come and enjoy beautiful restaurants with fabulous menus\, delicious cocktails\, and enjoy some Peace & M \nusic
URL:https://kathleenpeace.com/events/music-walk-in-downtown-fort-myers-river-district/
CATEGORIES:Come and sing one with me,Guest Appearance,Solo Performance
ATTACH;FMTTYPE=image/jpeg:https://kathleenpeace.com/wp-content/uploads/2022/08/FESTIVAL.jpg
END:VEVENT
BEGIN:VEVENT
DTSTART;TZID=UTC:20230815T170000
DTEND;TZID=UTC:20230815T193000
DTSTAMP:20260422T074806
CREATED:20230715T002553Z
LAST-MODIFIED:20230715T002553Z
UID:1062-1692118800-1692127800@kathleenpeace.com
SUMMARY:Mario's! with the Brylcream Boys
DESCRIPTION:A Great Restaurant\, Fabulous Music\, and there’s always room on the dance floor!
URL:https://kathleenpeace.com/events/marios-with-the-brylcream-boys-3/
LOCATION:Open to Everyone!
CATEGORIES:Guest Appearance
ATTACH;FMTTYPE=image/jpeg:https://kathleenpeace.com/wp-content/uploads/2022/08/grease-scaled.jpg
END:VEVENT
BEGIN:VEVENT
DTSTART;TZID=UTC:20230808T170000
DTEND;TZID=UTC:20230808T193000
DTSTAMP:20260422T074806
CREATED:20230715T002335Z
LAST-MODIFIED:20230715T002335Z
UID:1060-1691514000-1691523000@kathleenpeace.com
SUMMARY:Mario's! with the Brylcream Boys
DESCRIPTION:A great restaurant\, fabulous Music\, and there’s always room on the dance floor!
URL:https://kathleenpeace.com/events/marios-with-the-brylcream-boys-2/
LOCATION:Open to Everyone!
CATEGORIES:Guest Appearance
ATTACH;FMTTYPE=image/jpeg:https://kathleenpeace.com/wp-content/uploads/2022/11/IMG_20221020_085803958-3-scaled.jpg
END:VEVENT
BEGIN:VEVENT
DTSTART;TZID=UTC:20230804T180000
DTEND;TZID=UTC:20230804T220000
DTSTAMP:20260422T074806
CREATED:20230523T164745Z
LAST-MODIFIED:20230615T173450Z
UID:1010-1691172000-1691186400@kathleenpeace.com
SUMMARY:Downtown Fort Myers River district
DESCRIPTION:An evening of merriment \, music and lots of great mayhem! \nEnjoy artisans\, fabulous restaurants and cool cocktails throughout the downtown River district. Peace & Music will be entertaining you in front of Ford’s Garage!
URL:https://kathleenpeace.com/events/downtown-fort-myers-river-district/
LOCATION:Downtown Fort Myers River District\, Fort Myers\, FL\, United States
CATEGORIES:Guest Appearance,Vocal Entertainer for the evening
ATTACH;FMTTYPE=image/jpeg:https://kathleenpeace.com/wp-content/uploads/2022/11/50556468_219833458834590_5506385825681637376_n.jpg
END:VEVENT
BEGIN:VEVENT
DTSTART;TZID=UTC:20230801T170000
DTEND;TZID=UTC:20230801T193000
DTSTAMP:20260422T074806
CREATED:20230715T002150Z
LAST-MODIFIED:20230715T002150Z
UID:1058-1690909200-1690918200@kathleenpeace.com
SUMMARY:Mario's! With The Brylcream Boys
DESCRIPTION:A great restaurant\, fabulous Music\, and there’s always room on the dance floor!
URL:https://kathleenpeace.com/events/marios-with-the-brylcream-boys/
LOCATION:Open to Everyone!
CATEGORIES:Guest Appearance
ATTACH;FMTTYPE=image/jpeg:https://kathleenpeace.com/wp-content/uploads/2022/11/572775410740783615.jpg
END:VEVENT
BEGIN:VEVENT
DTSTART;TZID=UTC:20230725T173000
DTEND;TZID=UTC:20230725T173000
DTSTAMP:20260422T074806
CREATED:20230625T004217Z
LAST-MODIFIED:20230625T004217Z
UID:1053-1690306200-1690306200@kathleenpeace.com
SUMMARY:Mario's Restaurant with Brylcream
DESCRIPTION:This truly is the hottest place in town. The food is awesome and the music is so much fun. Get there early because it gets packed! \nMario’s restaurant is located in the Grand Oaks shopping plaza in Estero
URL:https://kathleenpeace.com/events/marios-restaurant-with-brylcream-2/
LOCATION:Open to Everyone!
CATEGORIES:Guest Appearance
ATTACH;FMTTYPE=image/jpeg:https://kathleenpeace.com/wp-content/uploads/2022/11/79919394_10218423425069389_6429697300607533056_n.jpg
END:VEVENT
BEGIN:VEVENT
DTSTART;TZID=UTC:20230721T180000
DTEND;TZID=UTC:20230721T220000
DTSTAMP:20260422T074806
CREATED:20230721T061011Z
LAST-MODIFIED:20230615T173733Z
UID:908-1689962400-1689976800@kathleenpeace.com
SUMMARY:Music Walk Downtown Fort Myers
DESCRIPTION:Spend your evening with fine wine\, musicians and great cuisine… Downtown Fort Myers in the River District.
URL:https://kathleenpeace.com/events/music-walk/
CATEGORIES:Guest Appearance,Solo Performance
ATTACH;FMTTYPE=image/jpeg:https://kathleenpeace.com/wp-content/uploads/2022/08/artwalk2022-2.jpg
END:VEVENT
BEGIN:VEVENT
DTSTART;TZID=UTC:20230721T180000
DTEND;TZID=UTC:20230721T220000
DTSTAMP:20260422T074806
CREATED:20230715T010451Z
LAST-MODIFIED:20230715T010451Z
UID:1086-1689962400-1689976800@kathleenpeace.com
SUMMARY:Music Walk
DESCRIPTION:It’s a party on every corner in Downtown Fort Myers! \nJoin us for Music Walk 6pm to 10pm!
URL:https://kathleenpeace.com/events/music-walk-3/
LOCATION:Open to Everyone!
CATEGORIES:Come and sing one with me,Guest Appearance
ATTACH;FMTTYPE=image/jpeg:https://kathleenpeace.com/wp-content/uploads/2022/11/50556468_219833458834590_5506385825681637376_n.jpg
END:VEVENT
BEGIN:VEVENT
DTSTART;TZID=UTC:20230718T173000
DTEND;TZID=UTC:20230718T193000
DTSTAMP:20260422T074806
CREATED:20230625T003744Z
LAST-MODIFIED:20230625T003744Z
UID:1050-1689701400-1689708600@kathleenpeace.com
SUMMARY:Mario's Restaurant with Brylcream
DESCRIPTION:This is becoming the hottest place in town. The food is great the music is awesome\, and the company can’t be beat. Bring your dancing shoes you’re going to need them!
URL:https://kathleenpeace.com/events/marios-restaurant-with-brylcream/
LOCATION:Open to Everyone!
CATEGORIES:Guest Appearance
ATTACH;FMTTYPE=image/jpeg:https://kathleenpeace.com/wp-content/uploads/2022/11/IMG_20221020_085803958-1-scaled.jpg
END:VEVENT
BEGIN:VEVENT
DTSTART;TZID=UTC:20230715T160000
DTEND;TZID=UTC:20230715T190000
DTSTAMP:20260422T074806
CREATED:20230620T142622Z
LAST-MODIFIED:20230620T143035Z
UID:1046-1689436800-1689447600@kathleenpeace.com
SUMMARY:Miramar Outlets
DESCRIPTION:I’ll be performing from 4 to 7 by the fountain at Fords Garage…What will you be doing?
URL:https://kathleenpeace.com/events/miramar-outlets/
LOCATION:Join Me for some “Peace & Music”
CATEGORIES:Come and sing one with me,Guest Appearance,Vocal Entertainer for the evening
ATTACH;FMTTYPE=image/jpeg:https://kathleenpeace.com/wp-content/uploads/2019/02/cropped-403821_3212992858025_1165999986_n.jpg
END:VEVENT
BEGIN:VEVENT
DTSTART;TZID=UTC:20230708T180000
DTEND;TZID=UTC:20230708T213000
DTSTAMP:20260422T074806
CREATED:20230619T231711Z
LAST-MODIFIED:20230619T231711Z
UID:1042-1688839200-1688851800@kathleenpeace.com
SUMMARY:Rhythm House with the Brylcream Boys
DESCRIPTION:Bring your dancing shoes!!! this is a great place to party! \nThee food and beverages are awesome too!
URL:https://kathleenpeace.com/events/rhythm-house-with-the-brylcream-boys/
LOCATION:Open to Everyone!
CATEGORIES:Guest Appearance
ATTACH;FMTTYPE=image/jpeg:https://kathleenpeace.com/wp-content/uploads/2022/11/79919394_10218423425069389_6429697300607533056_n.jpg
END:VEVENT
BEGIN:VEVENT
DTSTART;TZID=UTC:20230707T180000
DTEND;TZID=UTC:20230707T220000
DTSTAMP:20260422T074806
CREATED:20230523T164314Z
LAST-MODIFIED:20230615T173532Z
UID:1008-1688752800-1688767200@kathleenpeace.com
SUMMARY:Art Walk downtown Fort Myers River district
DESCRIPTION:An evening of merriment music and lots of great mayhem! \nEnjoy artisans\, fabulous restaurants and cool cocktails throughout the downtown River district. Peace & Music will be entertaining you in front of Ford’s Garage!
URL:https://kathleenpeace.com/events/art-walk-downtown-fort-myers-river-district-3/
LOCATION:Downtown Fort Myers River District\, Fort Myers\, FL\, United States
CATEGORIES:Guest Appearance,Solo Performance
ATTACH;FMTTYPE=image/jpeg:https://kathleenpeace.com/wp-content/uploads/2022/08/artwalk2022-2.jpg
END:VEVENT
BEGIN:VEVENT
DTSTART;TZID=UTC:20230613T170000
DTEND;TZID=UTC:20230613T190000
DTSTAMP:20260422T074806
CREATED:20230607T200550Z
LAST-MODIFIED:20230607T201005Z
UID:1022-1686675600-1686682800@kathleenpeace.com
SUMMARY:Guest appearance with Brylcream at Mario's in Estero
DESCRIPTION:This is going to be a packed house. Mario’s will be hosting a doo-wop party Tuesday night from 5:00 to 7:00. I will have the pleasure of singing with Christine Wilson. \nEnjoy happy hour prices and some of the best food I’ve ever experienced. Hope to see you there.
URL:https://kathleenpeace.com/events/guest-appearance-with-brylcream-at-marios-in-estero/
LOCATION:Open to Everyone!
CATEGORIES:Guest Appearance
ATTACH;FMTTYPE=image/jpeg:https://kathleenpeace.com/wp-content/uploads/2022/08/1234111096970782668.jpg
END:VEVENT
BEGIN:VEVENT
DTSTART;TZID=UTC:20230602T180000
DTEND;TZID=UTC:20230602T220000
DTSTAMP:20260422T074806
CREATED:20230221T163051Z
LAST-MODIFIED:20230330T154056Z
UID:943-1685728800-1685743200@kathleenpeace.com
SUMMARY:Art Walk
DESCRIPTION:Enjoy an evening of artisans\, fabulous restaurants\, delicious cocktails\, wonderful shopping\, right along with peace and music in downtown fort Myers River district
URL:https://kathleenpeace.com/events/music-walk-2/
LOCATION:Open to Everyone!
CATEGORIES:Come and sing one with me,Guest Appearance
ATTACH;FMTTYPE=image/jpeg:https://kathleenpeace.com/wp-content/uploads/2019/02/10730829_10204790688063511_563568537070897866_n.jpg
END:VEVENT
BEGIN:VEVENT
DTSTART;TZID=UTC:20230519T180000
DTEND;TZID=UTC:20230519T220000
DTSTAMP:20260422T074806
CREATED:20220909T013023Z
LAST-MODIFIED:20230302T142057Z
UID:834-1684519200-1684533600@kathleenpeace.com
SUMMARY:Music Walk Downtown Fort Myers
DESCRIPTION:The River District comes alive every month with live music on 3rd Friday in the downtown Fort Myers River District. Over a dozen participating venues feature music by local and regional talent. Restaurants\, bars\, art galleries\, and shops will showcase a wide range of music during Music Walk.
URL:https://kathleenpeace.com/events/music-walk-happy-holidays/
LOCATION:Open to Everyone!
CATEGORIES:Come and sing one with me,Guest Appearance,Solo Performance
ATTACH;FMTTYPE=image/jpeg:https://kathleenpeace.com/wp-content/uploads/2022/11/50556468_219833458834590_5506385825681637376_n.jpg
END:VEVENT
END:VCALENDAR