BEGIN:VCALENDAR
VERSION:2.0
PRODID:-//Peace &amp; Music - ECPv6.15.13//NONSGML v1.0//EN
CALSCALE:GREGORIAN
METHOD:PUBLISH
X-ORIGINAL-URL:https://kathleenpeace.com
X-WR-CALDESC:Events for Peace &amp; Music
REFRESH-INTERVAL;VALUE=DURATION:PT1H
X-Robots-Tag:noindex
X-PUBLISHED-TTL:PT1H
BEGIN:VTIMEZONE
TZID:UTC
BEGIN:STANDARD
TZOFFSETFROM:+0000
TZOFFSETTO:+0000
TZNAME:UTC
DTSTART:20220101T000000
END:STANDARD
END:VTIMEZONE
BEGIN:VEVENT
DTSTART;TZID=UTC:20260327T170000
DTEND;TZID=UTC:20260327T200000
DTSTAMP:20260421T180947
CREATED:20250327T155049Z
LAST-MODIFIED:20250607T202435Z
UID:1769-1774630800-1774641600@kathleenpeace.com
SUMMARY:Vasari
DESCRIPTION:Happy Hour
URL:https://kathleenpeace.com/events/vasari-2/
CATEGORIES:Private Affair,Solo Performance
ATTACH;FMTTYPE=image/jpeg:https://kathleenpeace.com/wp-content/uploads/2025/04/Messenger_creation_35F8AC9F-44C2-4E15-85DE-81117E2CF75D.jpeg
END:VEVENT
BEGIN:VEVENT
DTSTART;TZID=UTC:20251128T170000
DTEND;TZID=UTC:20251128T200000
DTSTAMP:20260421T180947
CREATED:20250329T154906Z
LAST-MODIFIED:20250329T154906Z
UID:1767-1764349200-1764360000@kathleenpeace.com
SUMMARY:Vasari
DESCRIPTION:Happy hour!
URL:https://kathleenpeace.com/events/vasari/
CATEGORIES:Private Affair,Solo Performance
ATTACH;FMTTYPE=image/jpeg:https://kathleenpeace.com/wp-content/uploads/2025/01/IMG_20240924_1551589333.jpg
END:VEVENT
BEGIN:VEVENT
DTSTART;TZID=UTC:20250124T080000
DTEND;TZID=UTC:20250124T170000
DTSTAMP:20260421T180947
CREATED:20240513T232030Z
LAST-MODIFIED:20241217T155918Z
UID:1464-1737705600-1737738000@kathleenpeace.com
SUMMARY:Vasari Country Club
DESCRIPTION:
URL:https://kathleenpeace.com/events/vasari-country-club-15/
CATEGORIES:Private Affair
ATTACH;FMTTYPE=image/jpeg:https://kathleenpeace.com/wp-content/uploads/2024/11/IMG_20241116_1715218883-scaled.jpg
END:VEVENT
BEGIN:VEVENT
DTSTART;TZID=UTC:20250109T183000
DTEND;TZID=UTC:20250109T213000
DTSTAMP:20260421T180947
CREATED:20241127T161651Z
LAST-MODIFIED:20241127T161651Z
UID:1604-1736447400-1736458200@kathleenpeace.com
SUMMARY:Rotunda Private Affair
DESCRIPTION:
URL:https://kathleenpeace.com/events/rotunda-private-affair/
LOCATION:By Invitation
CATEGORIES:Private Affair
ATTACH;FMTTYPE=image/jpeg:https://kathleenpeace.com/wp-content/uploads/2024/10/IMG_20240912_175842017_HDR2-scaled.jpg
END:VEVENT
BEGIN:VEVENT
DTSTART;TZID=UTC:20241208T050000
DTEND;TZID=UTC:20241208T200000
DTSTAMP:20260421T180947
CREATED:20240827T182917Z
LAST-MODIFIED:20240827T182917Z
UID:1508-1733634000-1733688000@kathleenpeace.com
SUMMARY:Performing with Brylcream
DESCRIPTION:Sorry it’s an invitation only event… \n 
URL:https://kathleenpeace.com/events/performing-with-brylcream/
LOCATION:A Members Only
CATEGORIES:Guest appearance with Brylcream,Private Affair
ATTACH;FMTTYPE=image/jpeg:https://kathleenpeace.com/wp-content/uploads/2023/09/3232251200814796500.jpg
END:VEVENT
BEGIN:VEVENT
DTSTART;TZID=UTC:20241129T170000
DTEND;TZID=UTC:20241129T200000
DTSTAMP:20260421T180947
CREATED:20240513T231047Z
LAST-MODIFIED:20240513T231047Z
UID:1457-1732899600-1732910400@kathleenpeace.com
SUMMARY:Vasari Country Club
DESCRIPTION:
URL:https://kathleenpeace.com/events/vasari-country-club-14/
LOCATION:A Members Only
CATEGORIES:Guest Appearance,Private Affair
ATTACH;FMTTYPE=image/jpeg:https://kathleenpeace.com/wp-content/uploads/2022/11/50556468_219833458834590_5506385825681637376_n.jpg
END:VEVENT
BEGIN:VEVENT
DTSTART;TZID=UTC:20241025T170000
DTEND;TZID=UTC:20241025T210000
DTSTAMP:20260421T180947
CREATED:20240513T230710Z
LAST-MODIFIED:20240513T231540Z
UID:1453-1729875600-1729890000@kathleenpeace.com
SUMMARY:Vasari Country Club
DESCRIPTION:
URL:https://kathleenpeace.com/events/vasari-country-club-13/
LOCATION:A Members Only
CATEGORIES:Private Affair
ATTACH;FMTTYPE=image/jpeg:https://kathleenpeace.com/wp-content/uploads/2022/11/22491702_10212205538386108_4983957395140127072_n.jpg
END:VEVENT
BEGIN:VEVENT
DTSTART;TZID=UTC:20241019T173000
DTEND;TZID=UTC:20241019T203000
DTSTAMP:20260421T180947
CREATED:20241013T164213Z
LAST-MODIFIED:20241013T164224Z
UID:1544-1729359000-1729369800@kathleenpeace.com
SUMMARY:The villages of Country Creek
DESCRIPTION:Members only… sorry
URL:https://kathleenpeace.com/events/the-villages-of-country-creek/
LOCATION:A Members Only
CATEGORIES:Private Affair,Vocal Entertainer for the evening
ATTACH;FMTTYPE=image/jpeg:https://kathleenpeace.com/wp-content/uploads/2022/11/50556468_219833458834590_5506385825681637376_n.jpg
END:VEVENT
BEGIN:VEVENT
DTSTART;TZID=UTC:20241008T170000
DTEND;TZID=UTC:20241008T200000
DTSTAMP:20260421T180947
CREATED:20240513T230608Z
LAST-MODIFIED:20240513T230608Z
UID:1451-1728406800-1728417600@kathleenpeace.com
SUMMARY:Vasari Country Club
DESCRIPTION:
URL:https://kathleenpeace.com/events/vasari-country-club-12/
LOCATION:A Members Only
CATEGORIES:Guest Appearance,Private Affair
ATTACH;FMTTYPE=image/jpeg:https://kathleenpeace.com/wp-content/uploads/2022/11/67642741_10217171659376029_2021430889052897280_n.jpg
END:VEVENT
BEGIN:VEVENT
DTSTART;TZID=UTC:20240924T170000
DTEND;TZID=UTC:20240924T200000
DTSTAMP:20260421T180947
CREATED:20240513T230326Z
LAST-MODIFIED:20240513T230326Z
UID:1447-1727197200-1727208000@kathleenpeace.com
SUMMARY:Vasari Country Club
DESCRIPTION:members Happy Hour
URL:https://kathleenpeace.com/events/vasari-country-club-11/
LOCATION:A Members Only
CATEGORIES:Private Affair
ATTACH;FMTTYPE=image/jpeg:https://kathleenpeace.com/wp-content/uploads/2012/04/2e81ca1e0b9f3aaecbc1ed91352b649e_vintage-microphones-atlanta-pinterest-vintage-microphone-old-style-microphone-drawing_720-960.jpeg
END:VEVENT
BEGIN:VEVENT
DTSTART;TZID=UTC:20240827T170000
DTEND;TZID=UTC:20240827T200000
DTSTAMP:20260421T180947
CREATED:20240513T230028Z
LAST-MODIFIED:20240513T230028Z
UID:1443-1724778000-1724788800@kathleenpeace.com
SUMMARY:Vasari Country Club
DESCRIPTION:Members Happy Hour
URL:https://kathleenpeace.com/events/vasari-country-club-10/
LOCATION:A Members Only
CATEGORIES:Guest Appearance,Private Affair
ATTACH;FMTTYPE=image/jpeg:https://kathleenpeace.com/wp-content/uploads/2022/08/MIC.jpg
END:VEVENT
BEGIN:VEVENT
DTSTART;TZID=UTC:20240723T170000
DTEND;TZID=UTC:20240723T200000
DTSTAMP:20260421T180947
CREATED:20240513T225715Z
LAST-MODIFIED:20240513T225715Z
UID:1439-1721754000-1721764800@kathleenpeace.com
SUMMARY:Vasari Country Club
DESCRIPTION:Members Happy Hour
URL:https://kathleenpeace.com/events/vasari-country-club-9/
LOCATION:A Members Only
CATEGORIES:Private Affair
ATTACH;FMTTYPE=image/jpeg:https://kathleenpeace.com/wp-content/uploads/2022/07/My-project-2.jpg
END:VEVENT
BEGIN:VEVENT
DTSTART;TZID=UTC:20240704T140000
DTEND;TZID=UTC:20240704T170000
DTSTAMP:20260421T180947
CREATED:20240618T152331Z
LAST-MODIFIED:20240618T152331Z
UID:1484-1720101600-1720112400@kathleenpeace.com
SUMMARY:Private 4th of July party
DESCRIPTION:And this one’s going to be a real hootenanny
URL:https://kathleenpeace.com/events/private-4th-of-july-party/
LOCATION:By Invitation
CATEGORIES:Private Affair
ATTACH;FMTTYPE=image/jpeg:https://kathleenpeace.com/wp-content/uploads/2024/05/ss-1-e1716654599971.jpg
END:VEVENT
BEGIN:VEVENT
DTSTART;TZID=UTC:20240625T170000
DTEND;TZID=UTC:20240625T200000
DTSTAMP:20260421T180947
CREATED:20240513T225320Z
LAST-MODIFIED:20240513T225320Z
UID:1435-1719334800-1719345600@kathleenpeace.com
SUMMARY:Vasari Country Club
DESCRIPTION:Members Happy Hour
URL:https://kathleenpeace.com/events/vasari-country-club-8/
LOCATION:A Members Only
CATEGORIES:Guest Appearance,Private Affair
ATTACH;FMTTYPE=image/jpeg:https://kathleenpeace.com/wp-content/uploads/2022/07/cropped-My-project-2.jpg
END:VEVENT
BEGIN:VEVENT
DTSTART;TZID=UTC:20240514T170000
DTEND;TZID=UTC:20240514T200000
DTSTAMP:20260421T180947
CREATED:20240513T225157Z
LAST-MODIFIED:20240513T225157Z
UID:1433-1715706000-1715716800@kathleenpeace.com
SUMMARY:Vasari Country Club
DESCRIPTION:Members Happy Hour!
URL:https://kathleenpeace.com/events/vasari-country-club-7/
LOCATION:A Members Only
CATEGORIES:Private Affair,Solo Performance
ATTACH;FMTTYPE=image/jpeg:https://kathleenpeace.com/wp-content/uploads/2022/07/My-project-2.jpg
END:VEVENT
BEGIN:VEVENT
DTSTART;TZID=UTC:20240406T060000
DTEND;TZID=UTC:20240406T210000
DTSTAMP:20260421T180947
CREATED:20231219T000423Z
LAST-MODIFIED:20240319T004237Z
UID:1242-1712383200-1712437200@kathleenpeace.com
SUMMARY:River Hall
DESCRIPTION:A members only affair
URL:https://kathleenpeace.com/events/river-hall-2/
LOCATION:A Members Only
CATEGORIES:Guest Appearance,Private Affair
ATTACH;FMTTYPE=image/jpeg:https://kathleenpeace.com/wp-content/uploads/2023/09/3232251200814796500.jpg
END:VEVENT
BEGIN:VEVENT
DTSTART;TZID=UTC:20240309T130000
DTEND;TZID=UTC:20240309T160000
DTSTAMP:20260421T180947
CREATED:20240122T225935Z
LAST-MODIFIED:20240122T230109Z
UID:1290-1709989200-1710000000@kathleenpeace.com
SUMMARY:The Newman Wedding
DESCRIPTION:Carl and Barbara are getting hitched!
URL:https://kathleenpeace.com/events/the-newman-wedding/
LOCATION:By Invitation
CATEGORIES:Private Affair
ATTACH;FMTTYPE=image/jpeg:https://kathleenpeace.com/wp-content/uploads/2019/02/10374516_10153460460273408_8084952851961975004_n.jpg
END:VEVENT
BEGIN:VEVENT
DTSTART;TZID=UTC:20240225T190000
DTEND;TZID=UTC:20240225T213000
DTSTAMP:20260421T180947
CREATED:20240223T231308Z
LAST-MODIFIED:20240223T231308Z
UID:1322-1708887600-1708896600@kathleenpeace.com
SUMMARY:Fountain Lakes with Brylcream
DESCRIPTION:Invitation only…
URL:https://kathleenpeace.com/events/fountain-lakes-with-brylcream/
LOCATION:By Invitation
CATEGORIES:Private Affair
ATTACH;FMTTYPE=image/jpeg:https://kathleenpeace.com/wp-content/uploads/2023/11/379935526_1323436781599234_4217543497066377738_n.jpg
END:VEVENT
BEGIN:VEVENT
DTSTART;TZID=UTC:20240216T183000
DTEND;TZID=UTC:20240216T213000
DTSTAMP:20260421T180947
CREATED:20230928T161339Z
LAST-MODIFIED:20230928T162421Z
UID:1147-1708108200-1708119000@kathleenpeace.com
SUMMARY:Heritage Palms Golf and Country Club
DESCRIPTION:Poolside fun
URL:https://kathleenpeace.com/events/heritage-palms-golf-and-country-club/
CATEGORIES:Guest Appearance,Private Affair,Solo Performance
ATTACH;FMTTYPE=image/jpeg:https://kathleenpeace.com/wp-content/uploads/2022/11/79139118_10218275907501542_9102921972550991872_n.jpg
END:VEVENT
BEGIN:VEVENT
DTSTART;TZID=UTC:20240124T173000
DTEND;TZID=UTC:20240124T203000
DTSTAMP:20260421T180947
CREATED:20231115T200834Z
LAST-MODIFIED:20231115T200834Z
UID:1212-1706117400-1706128200@kathleenpeace.com
SUMMARY:Stony Brook Country Club
DESCRIPTION:A private affair
URL:https://kathleenpeace.com/events/stony-brook-country-club-2/
LOCATION:By Invitation
CATEGORIES:Private Affair,Solo Performance
ATTACH;FMTTYPE=image/jpeg:https://kathleenpeace.com/wp-content/uploads/2023/10/received_357102543493914-scaled.jpeg
END:VEVENT
BEGIN:VEVENT
DTSTART;TZID=UTC:20240103T060000
DTEND;TZID=UTC:20240103T210000
DTSTAMP:20260421T180947
CREATED:20231115T195910Z
LAST-MODIFIED:20231115T200044Z
UID:1204-1704261600-1704315600@kathleenpeace.com
SUMMARY:Riverwood Plantation with Brylcream
DESCRIPTION:A private affair
URL:https://kathleenpeace.com/events/riverwood-plantation-with-brylcream/
LOCATION:By Invitation
CATEGORIES:Private Affair
ATTACH;FMTTYPE=image/jpeg:https://kathleenpeace.com/wp-content/uploads/2023/09/3232251200814796500.jpg
END:VEVENT
BEGIN:VEVENT
DTSTART;TZID=UTC:20231214T180000
DTEND;TZID=UTC:20231214T200000
DTSTAMP:20260421T180947
CREATED:20231212T183839Z
LAST-MODIFIED:20231212T183839Z
UID:1231-1702576800-1702584000@kathleenpeace.com
SUMMARY:The River district alliance Christmas party
DESCRIPTION:It pays to know the bosses LOL! \nLooking forward to entertaining rooftop at the luminary hotel.
URL:https://kathleenpeace.com/events/the-river-district-alliance-christmas-party/
CATEGORIES:Guest Appearance,Private Affair,Solo Performance
ATTACH;FMTTYPE=image/jpeg:https://kathleenpeace.com/wp-content/uploads/2022/11/50556468_219833458834590_5506385825681637376_n.jpg
END:VEVENT
BEGIN:VEVENT
DTSTART;TZID=UTC:20231123T140000
DTEND;TZID=UTC:20231123T180000
DTSTAMP:20260421T180947
CREATED:20231020T122138Z
LAST-MODIFIED:20231020T122326Z
UID:1169-1700748000-1700762400@kathleenpeace.com
SUMMARY:HAPPY THANKGIVING!
DESCRIPTION:I and Christine Wilson( Mama bear of the Brylcream Boys) will be putting on a show at a private bash! \nLook forward to this New and Very Harmonic Duo coming to a stage near you! \n 
URL:https://kathleenpeace.com/events/happy-thankgiving/
CATEGORIES:Private Affair,Special Holiday Presentation
ATTACH;FMTTYPE=image/jpeg:https://kathleenpeace.com/wp-content/uploads/2023/09/3232251200814796500.jpg
END:VEVENT
BEGIN:VEVENT
DTSTART;TZID=UTC:20231103T180000
DTEND;TZID=UTC:20231103T220000
DTSTAMP:20260421T180947
CREATED:20230523T180030Z
LAST-MODIFIED:20231015T134109Z
UID:1016-1699034400-1699048800@kathleenpeace.com
SUMMARY:Wildcat Run
DESCRIPTION:I think I’ll go dressed as a cougar…lol
URL:https://kathleenpeace.com/events/wildcat-run/
LOCATION:Downtown Fort Myers River District\, Fort Myers\, FL\, United States
CATEGORIES:Guest Appearance,Private Affair
ATTACH;FMTTYPE=image/jpeg:https://kathleenpeace.com/wp-content/uploads/2022/11/50556468_219833458834590_5506385825681637376_n.jpg
END:VEVENT
BEGIN:VEVENT
DTSTART;TZID=UTC:20230920T170000
DTEND;TZID=UTC:20230920T200000
DTSTAMP:20260421T180947
CREATED:20230902T131635Z
LAST-MODIFIED:20230902T131635Z
UID:1125-1695229200-1695240000@kathleenpeace.com
SUMMARY:Sienna Lakes
DESCRIPTION:a private affair
URL:https://kathleenpeace.com/events/sienna-lakes/
CATEGORIES:Private Affair
ATTACH;FMTTYPE=image/jpeg:https://kathleenpeace.com/wp-content/uploads/2023/09/8639701052728694995.jpg
END:VEVENT
BEGIN:VEVENT
DTSTART;TZID=UTC:20230124T173000
DTEND;TZID=UTC:20230124T203000
DTSTAMP:20260421T180947
CREATED:20231115T200548Z
LAST-MODIFIED:20231115T200548Z
UID:1210-1674581400-1674592200@kathleenpeace.com
SUMMARY:Stony Brook Country Club
DESCRIPTION:Sorry \, another private affair…
URL:https://kathleenpeace.com/events/stony-brook-country-club/
LOCATION:By Invitation
CATEGORIES:Private Affair
ATTACH;FMTTYPE=image/jpeg:https://kathleenpeace.com/wp-content/uploads/2023/10/received_357102543493914-scaled.jpeg
END:VEVENT
BEGIN:VEVENT
DTSTART;TZID=UTC:20230120T180000
DTEND;TZID=UTC:20230120T210000
DTSTAMP:20260421T180947
CREATED:20231219T000036Z
LAST-MODIFIED:20231219T000036Z
UID:1237-1674237600-1674248400@kathleenpeace.com
SUMMARY:River Hall
DESCRIPTION:A members only event
URL:https://kathleenpeace.com/events/river-hall/
CATEGORIES:Guest Appearance,Private Affair
ATTACH;FMTTYPE=image/jpeg:https://kathleenpeace.com/wp-content/uploads/2022/11/50556468_219833458834590_5506385825681637376_n.jpg
END:VEVENT
END:VCALENDAR