BEGIN:VCALENDAR
VERSION:2.0
PRODID:-//Peace &amp; Music - ECPv6.15.13//NONSGML v1.0//EN
CALSCALE:GREGORIAN
METHOD:PUBLISH
X-ORIGINAL-URL:https://kathleenpeace.com
X-WR-CALDESC:Events for Peace &amp; Music
REFRESH-INTERVAL;VALUE=DURATION:PT1H
X-Robots-Tag:noindex
X-PUBLISHED-TTL:PT1H
BEGIN:VTIMEZONE
TZID:UTC
BEGIN:STANDARD
TZOFFSETFROM:+0000
TZOFFSETTO:+0000
TZNAME:UTC
DTSTART:20210101T000000
END:STANDARD
END:VTIMEZONE
BEGIN:VEVENT
DTSTART;TZID=UTC:20250823T160000
DTEND;TZID=UTC:20250823T190000
DTSTAMP:20260421T212813
CREATED:20250707T174651Z
LAST-MODIFIED:20250823T185426Z
UID:1901-1755964800-1755975600@kathleenpeace.com
SUMMARY:Ford's garage has been canceled due to rain.
DESCRIPTION:Spend a nice early evening at Miramar. Relaxing  Music\, Great food\, and of course\, fabulous shopping I’ll be at Ford’s garage from 4:00 to 7:00  and if you’re a people watcher you’re definitely in the right place…
URL:https://kathleenpeace.com/events/fords-garage-at-miramar-and-estero/
LOCATION:Open to Everyone!
CATEGORIES:Come and sing one with me,Vocal Entertainer for the evening
ATTACH;FMTTYPE=image/jpeg:https://kathleenpeace.com/wp-content/uploads/2025/06/Messenger_creation_E24AD20A-F74D-45BC-8C84-854AA6DC7CFD.jpeg
END:VEVENT
BEGIN:VEVENT
DTSTART;TZID=UTC:20250307T160000
DTEND;TZID=UTC:20250307T190000
DTSTAMP:20260421T212813
CREATED:20240513T232356Z
LAST-MODIFIED:20250306T011022Z
UID:1468-1741363200-1741374000@kathleenpeace.com
SUMMARY:R.A.D Winery
DESCRIPTION:Come Celebrate with us… They are a wonderful venue for the whole family \ncheck it out! \nRAD Winery and Cidery                20948 Corkscrew RD suite 172 Estero
URL:https://kathleenpeace.com/events/art-walk-8/
LOCATION:Open to Everyone!
CATEGORIES:Vocal Entertainer for the evening
ATTACH;FMTTYPE=image/jpeg:https://kathleenpeace.com/wp-content/uploads/2024/10/Messenger_creation_48B0578E-F43E-4A40-B76B-2878DFC44DA9.jpeg
END:VEVENT
BEGIN:VEVENT
DTSTART;TZID=UTC:20250103T170000
DTEND;TZID=UTC:20250103T210000
DTSTAMP:20260421T212813
CREATED:20240513T231852Z
LAST-MODIFIED:20241217T160004Z
UID:1462-1735923600-1735938000@kathleenpeace.com
SUMMARY:Art Walk
DESCRIPTION:
URL:https://kathleenpeace.com/events/art-walk-6/
LOCATION:Open to Everyone!
CATEGORIES:Come and sing one with me,Vocal Entertainer for the evening
ATTACH;FMTTYPE=image/jpeg:https://kathleenpeace.com/wp-content/uploads/2024/11/FB_IMG_1732508137966.jpg
END:VEVENT
BEGIN:VEVENT
DTSTART;TZID=UTC:20241206T170000
DTEND;TZID=UTC:20241206T210000
DTSTAMP:20260421T212813
CREATED:20240513T231739Z
LAST-MODIFIED:20241018T134858Z
UID:1460-1733504400-1733518800@kathleenpeace.com
SUMMARY:Artwalk
DESCRIPTION:
URL:https://kathleenpeace.com/events/artwalk-2/
LOCATION:Open to Everyone!
CATEGORIES:Come and sing one with me,Vocal Entertainer for the evening
ATTACH;FMTTYPE=image/jpeg:https://kathleenpeace.com/wp-content/uploads/2024/05/ss-1-e1716654599971.jpg
END:VEVENT
BEGIN:VEVENT
DTSTART;TZID=UTC:20241101T170000
DTEND;TZID=UTC:20241101T210000
DTSTAMP:20260421T212813
CREATED:20240513T230932Z
LAST-MODIFIED:20241018T134812Z
UID:1455-1730480400-1730494800@kathleenpeace.com
SUMMARY:Artwalk
DESCRIPTION:
URL:https://kathleenpeace.com/events/artwalk/
LOCATION:Open to Everyone!
CATEGORIES:Come and sing one with me,Vocal Entertainer for the evening
ATTACH;FMTTYPE=image/jpeg:https://kathleenpeace.com/wp-content/uploads/2024/10/2527012197843369396.jpg
END:VEVENT
BEGIN:VEVENT
DTSTART;TZID=UTC:20241019T173000
DTEND;TZID=UTC:20241019T203000
DTSTAMP:20260421T212813
CREATED:20241013T164213Z
LAST-MODIFIED:20241013T164224Z
UID:1544-1729359000-1729369800@kathleenpeace.com
SUMMARY:The villages of Country Creek
DESCRIPTION:Members only… sorry
URL:https://kathleenpeace.com/events/the-villages-of-country-creek/
LOCATION:A Members Only
CATEGORIES:Private Affair,Vocal Entertainer for the evening
ATTACH;FMTTYPE=image/jpeg:https://kathleenpeace.com/wp-content/uploads/2022/11/50556468_219833458834590_5506385825681637376_n.jpg
END:VEVENT
BEGIN:VEVENT
DTSTART;TZID=UTC:20241004T170000
DTEND;TZID=UTC:20241004T210000
DTSTAMP:20260421T212813
CREATED:20240513T230449Z
LAST-MODIFIED:20240513T231518Z
UID:1449-1728061200-1728075600@kathleenpeace.com
SUMMARY:Art Walk
DESCRIPTION:
URL:https://kathleenpeace.com/events/art-walk-5/
LOCATION:Open to Everyone!
CATEGORIES:Come and sing one with me,Vocal Entertainer for the evening
ATTACH;FMTTYPE=image/jpeg:https://kathleenpeace.com/wp-content/uploads/2023/11/MUSIC-WALK-OCT231-2.jpg
END:VEVENT
BEGIN:VEVENT
DTSTART;TZID=UTC:20240906T170000
DTEND;TZID=UTC:20240906T210000
DTSTAMP:20260421T212813
CREATED:20240513T230156Z
LAST-MODIFIED:20240513T231457Z
UID:1445-1725642000-1725656400@kathleenpeace.com
SUMMARY:Art Walk
DESCRIPTION:
URL:https://kathleenpeace.com/events/art-walk-4/
LOCATION:Open to Everyone!
CATEGORIES:Come and sing one with me,Vocal Entertainer for the evening
ATTACH;FMTTYPE=image/jpeg:https://kathleenpeace.com/wp-content/uploads/2019/02/10374516_10153460460273408_8084952851961975004_n.jpg
END:VEVENT
BEGIN:VEVENT
DTSTART;TZID=UTC:20240831T160000
DTEND;TZID=UTC:20240831T190000
DTSTAMP:20260421T212814
CREATED:20240716T181957Z
LAST-MODIFIED:20240716T182026Z
UID:1492-1725120000-1725130800@kathleenpeace.com
SUMMARY:Miromar at Kay Jeweler's
DESCRIPTION:It’s always a fun afternoon of shopping dining sipping on cocktails and enjoying some great music by The fountain. Hope to see you… \nAnd if you want to sing one just let me know!
URL:https://kathleenpeace.com/events/miromar-at-kay-jewelers-2/
LOCATION:Join Me for some “Peace & Music”
CATEGORIES:Vocal Entertainer for the evening
ATTACH;FMTTYPE=image/jpeg:https://kathleenpeace.com/wp-content/uploads/2024/05/17626108_1880563605500320_8503586434724531557_n-e1716654347568.jpg
END:VEVENT
BEGIN:VEVENT
DTSTART;TZID=UTC:20240525T160000
DTEND;TZID=UTC:20240525T190000
DTSTAMP:20260421T212814
CREATED:20240416T203338Z
LAST-MODIFIED:20240416T203350Z
UID:1406-1716652800-1716663600@kathleenpeace.com
SUMMARY:Kay Jewelers At Miromar
DESCRIPTION:Shop Dine Enjoy some Peace & Music
URL:https://kathleenpeace.com/events/kay-jewelers-at-miromar-3/
LOCATION:Open to Everyone!
CATEGORIES:Come and sing one with me,Vocal Entertainer for the evening
ATTACH;FMTTYPE=image/png:https://kathleenpeace.com/wp-content/uploads/2012/04/1-00001.png
END:VEVENT
BEGIN:VEVENT
DTSTART;TZID=UTC:20240127T173000
DTEND;TZID=UTC:20240127T203000
DTSTAMP:20260421T212814
CREATED:20230715T011845Z
LAST-MODIFIED:20230715T011845Z
UID:1091-1706376600-1706387400@kathleenpeace.com
SUMMARY:Foxfire
DESCRIPTION:Sorry\, It’s a private party…
URL:https://kathleenpeace.com/events/foxfire/
LOCATION:A Members Only
CATEGORIES:Guest Appearance,Vocal Entertainer for the evening
ATTACH;FMTTYPE=image/jpeg:https://kathleenpeace.com/wp-content/uploads/2022/08/MIC.jpg
END:VEVENT
BEGIN:VEVENT
DTSTART;TZID=UTC:20231231T203000
DTEND;TZID=UTC:20240101T003000
DTSTAMP:20260421T212814
CREATED:20230619T232023Z
LAST-MODIFIED:20230619T232023Z
UID:1044-1704054600-1704069000@kathleenpeace.com
SUMMARY:New Years Eve Bash
DESCRIPTION:A private affair…
URL:https://kathleenpeace.com/events/new-years-eve-bash/
CATEGORIES:Guest Appearance,Vocal Entertainer for the evening
ATTACH;FMTTYPE=image/jpeg:https://kathleenpeace.com/wp-content/uploads/2022/08/hny-scaled.jpg
END:VEVENT
BEGIN:VEVENT
DTSTART;TZID=UTC:20230804T180000
DTEND;TZID=UTC:20230804T220000
DTSTAMP:20260421T212814
CREATED:20230523T164745Z
LAST-MODIFIED:20230615T173450Z
UID:1010-1691172000-1691186400@kathleenpeace.com
SUMMARY:Downtown Fort Myers River district
DESCRIPTION:An evening of merriment \, music and lots of great mayhem! \nEnjoy artisans\, fabulous restaurants and cool cocktails throughout the downtown River district. Peace & Music will be entertaining you in front of Ford’s Garage!
URL:https://kathleenpeace.com/events/downtown-fort-myers-river-district/
LOCATION:Downtown Fort Myers River District\, Fort Myers\, FL\, United States
CATEGORIES:Guest Appearance,Vocal Entertainer for the evening
ATTACH;FMTTYPE=image/jpeg:https://kathleenpeace.com/wp-content/uploads/2022/11/50556468_219833458834590_5506385825681637376_n.jpg
END:VEVENT
BEGIN:VEVENT
DTSTART;TZID=UTC:20230715T160000
DTEND;TZID=UTC:20230715T190000
DTSTAMP:20260421T212814
CREATED:20230620T142622Z
LAST-MODIFIED:20230620T143035Z
UID:1046-1689436800-1689447600@kathleenpeace.com
SUMMARY:Miramar Outlets
DESCRIPTION:I’ll be performing from 4 to 7 by the fountain at Fords Garage…What will you be doing?
URL:https://kathleenpeace.com/events/miramar-outlets/
LOCATION:Join Me for some “Peace & Music”
CATEGORIES:Come and sing one with me,Guest Appearance,Vocal Entertainer for the evening
ATTACH;FMTTYPE=image/jpeg:https://kathleenpeace.com/wp-content/uploads/2019/02/cropped-403821_3212992858025_1165999986_n.jpg
END:VEVENT
BEGIN:VEVENT
DTSTART;TZID=UTC:20230421T160000
DTEND;TZID=UTC:20230421T193000
DTSTAMP:20260421T212814
CREATED:20230322T184847Z
LAST-MODIFIED:20230410T172149Z
UID:974-1682092800-1682105400@kathleenpeace.com
SUMMARY:Miramar by the fountain in front of Saks
DESCRIPTION:An afternoon of shopping\, and sweet music.
URL:https://kathleenpeace.com/events/miramar-by-the-fountain-in-front-of-saks/
LOCATION:Join Me for some “Peace & Music”
CATEGORIES:Guest Appearance,Vocal Entertainer for the evening
ATTACH;FMTTYPE=image/jpeg:https://kathleenpeace.com/wp-content/uploads/2019/02/10374516_10153460460273408_8084952851961975004_n.jpg
END:VEVENT
BEGIN:VEVENT
DTSTART;TZID=UTC:20230407T080000
DTEND;TZID=UTC:20230407T170000
DTSTAMP:20260421T212814
CREATED:20221217T183025Z
LAST-MODIFIED:20221217T183045Z
UID:902-1680854400-1680886800@kathleenpeace.com
SUMMARY:Art Walk Downtown Fort Myers
DESCRIPTION:downtown Fort Myers River District. Over a dozen participating venues and over 40 artisans showcasing their craft. Restaurants\, bars\, art galleries\, and shops will showcase the best food and drinks anywhere!!!
URL:https://kathleenpeace.com/events/art-walk-downtown-fort-myers-2/
LOCATION:Open to Everyone!
CATEGORIES:Come and sing one with me,Solo Performance,Vocal Entertainer for the evening
ATTACH;FMTTYPE=image/jpeg:https://kathleenpeace.com/wp-content/uploads/2022/11/271931426_10224224713377971_6727856647762747333_n.jpg
END:VEVENT
BEGIN:VEVENT
DTSTART;TZID=UTC:20230312T110000
DTEND;TZID=UTC:20230312T140000
DTSTAMP:20260421T212814
CREATED:20230221T161905Z
LAST-MODIFIED:20230302T141852Z
UID:941-1678618800-1678629600@kathleenpeace.com
SUMMARY:University Village Shops in Estero
DESCRIPTION:Brunch day! Merriment around the fountain… Enjoy dining and fabulous cocktails\, along with peace and music.
URL:https://kathleenpeace.com/events/university-village-shops/
LOCATION:Open to Everyone!
CATEGORIES:Guest Appearance,Vocal Entertainer for the evening
ATTACH;FMTTYPE=image/jpeg:https://kathleenpeace.com/wp-content/uploads/2022/08/MIC.jpg
END:VEVENT
BEGIN:VEVENT
DTSTART;TZID=UTC:20230304T160000
DTEND;TZID=UTC:20230304T190000
DTSTAMP:20260421T212814
CREATED:20230221T161459Z
LAST-MODIFIED:20230302T141806Z
UID:939-1677945600-1677956400@kathleenpeace.com
SUMMARY:The Restaurant Piazza at Miramar in Estero
DESCRIPTION:Come to the Restaurant Piazza at Miramar enjoy some dinner or cocktails or both. But bring your dancing shoes cuz you’re going to need them! \n 
URL:https://kathleenpeace.com/events/the-restaurant-piazza-at-miramar/
LOCATION:Open to Everyone!
CATEGORIES:Come and sing one with me,Vocal Entertainer for the evening
ATTACH;FMTTYPE=image/jpeg:https://kathleenpeace.com/wp-content/uploads/2022/11/50556468_219833458834590_5506385825681637376_n.jpg
END:VEVENT
BEGIN:VEVENT
DTSTART;TZID=UTC:20230218T183000
DTEND;TZID=UTC:20230218T183000
DTSTAMP:20260421T212814
CREATED:20220808T001009Z
LAST-MODIFIED:20221028T185016Z
UID:810-1676745000-1676745000@kathleenpeace.com
SUMMARY:Rhythm House
DESCRIPTION:Appearing with the Brylcream Boys! A 5 piece nostalgic Do Wop Group
URL:https://kathleenpeace.com/events/rhythm-house-3/
LOCATION:Open to Everyone!
CATEGORIES:Guest Appearance,Vocal Entertainer for the evening
ATTACH;FMTTYPE=image/jpeg:https://kathleenpeace.com/wp-content/uploads/2022/08/1234111096970782668.jpg
END:VEVENT
BEGIN:VEVENT
DTSTART;TZID=UTC:20230203T180000
DTEND;TZID=UTC:20230203T220000
DTSTAMP:20260421T212814
CREATED:20221217T182441Z
LAST-MODIFIED:20221217T183111Z
UID:900-1675447200-1675461600@kathleenpeace.com
SUMMARY:Art Walk Downtown fort Myers
DESCRIPTION:downtown Fort Myers River District. Over a dozen participating venues and over 40 artisans showcasing their craft. Restaurants\, bars\, art galleries\, and shops will showcase the best food and drinks anywhere!!!
URL:https://kathleenpeace.com/events/art-walk-downtown-fort-myers/
LOCATION:Open to Everyone!
CATEGORIES:Come and sing one with me,Guest Appearance,Solo Performance,Vocal Entertainer for the evening
ATTACH;FMTTYPE=image/jpeg:https://kathleenpeace.com/wp-content/uploads/2022/08/artwalk2022-2.jpg
END:VEVENT
BEGIN:VEVENT
DTSTART;TZID=UTC:20230128T180000
DTEND;TZID=UTC:20230128T210000
DTSTAMP:20260421T212814
CREATED:20221217T181531Z
LAST-MODIFIED:20230122T232039Z
UID:895-1674928800-1674939600@kathleenpeace.com
SUMMARY:Foxfire Country Club
DESCRIPTION:Performing as a trio “Peaceful Easy Feelin” with Billy and Tommy from Brylcream. \nA Private Affair!
URL:https://kathleenpeace.com/events/lake-fairways-club/
CATEGORIES:Vocal Entertainer for the evening
ATTACH;FMTTYPE=image/jpeg:https://kathleenpeace.com/wp-content/uploads/2022/11/74403397_10217947357247991_692555934517428224_n.jpg
END:VEVENT
BEGIN:VEVENT
DTSTART;TZID=UTC:20230128T150000
DTEND;TZID=UTC:20230128T170000
DTSTAMP:20260421T212814
CREATED:20221028T214340Z
LAST-MODIFIED:20230122T232236Z
UID:846-1674918000-1674925200@kathleenpeace.com
SUMMARY:Poolside at Marbella
DESCRIPTION:Its time to relax…poolside
URL:https://kathleenpeace.com/events/poolside-at-marbella/
LOCATION:By Invitation
CATEGORIES:Come and sing one with me,Solo Performance,Vocal Entertainer for the evening
ATTACH;FMTTYPE=image/jpeg:https://kathleenpeace.com/wp-content/uploads/2022/07/My-project-2.jpg
END:VEVENT
BEGIN:VEVENT
DTSTART;TZID=UTC:20230127T080000
DTEND;TZID=UTC:20230127T170000
DTSTAMP:20260421T212814
CREATED:20230127T202240Z
LAST-MODIFIED:20230127T202240Z
UID:926-1674806400-1674838800@kathleenpeace.com
SUMMARY:Art Walk Downtown Fort Myers
DESCRIPTION:Over a dozen participating venues and over 40 artisans showcasing their craft. Restaurants\, bars\, art galleries\, and shops will showcase the best food and drinks anywhere!!!
URL:https://kathleenpeace.com/events/art-walk-downtown-fort-myers-5/
LOCATION:Downtown Fort Myers River District\, Fort Myers\, FL\, United States
CATEGORIES:Come and sing one with me,Solo Performance,Vocal Entertainer for the evening
ATTACH;FMTTYPE=image/jpeg:https://kathleenpeace.com/wp-content/uploads/2022/11/50556468_219833458834590_5506385825681637376_n.jpg
END:VEVENT
BEGIN:VEVENT
DTSTART;TZID=UTC:20221231T203000
DTEND;TZID=UTC:20230101T003000
DTSTAMP:20260421T212814
CREATED:20220719T013544Z
LAST-MODIFIED:20220806T182956Z
UID:739-1672518600-1672533000@kathleenpeace.com
SUMMARY:Riviera Golf Club
DESCRIPTION:Performing with “Brylcream” A 5 piece Nostalgic Do Wop Group
URL:https://kathleenpeace.com/events/riviera-golf-club/
LOCATION:By Invitation
CATEGORIES:Guest Appearance,Vocal Entertainer for the evening
ATTACH;FMTTYPE=image/jpeg:https://kathleenpeace.com/wp-content/uploads/2022/08/hny-scaled.jpg
END:VEVENT
BEGIN:VEVENT
DTSTART;TZID=UTC:20221230T170000
DTEND;TZID=UTC:20221230T200000
DTSTAMP:20260421T212814
CREATED:20220903T155943Z
LAST-MODIFIED:20221118T175052Z
UID:824-1672419600-1672430400@kathleenpeace.com
SUMMARY:Vasari Country Club
DESCRIPTION:Its Happy Hour at the Taverna Lounge!
URL:https://kathleenpeace.com/events/vasari-country-club/
LOCATION:By Invitation
CATEGORIES:Solo Performance,Vocal Entertainer for the evening
ATTACH;FMTTYPE=image/jpeg:https://kathleenpeace.com/wp-content/uploads/2022/07/cropped-My-project-2.jpg
END:VEVENT
BEGIN:VEVENT
DTSTART;TZID=UTC:20221210T160000
DTEND;TZID=UTC:20221210T190000
DTSTAMP:20260421T212814
CREATED:20221117T160734Z
LAST-MODIFIED:20221118T160948Z
UID:861-1670688000-1670698800@kathleenpeace.com
SUMMARY:Estero Miromar Outlets Restaurant Piazza
DESCRIPTION:While  you are out and about Christmas Shopping… Shop at Miromar Outlets on this festive  day! Join in the fun and sing one with me if you like!!! Or have dinner! I’ll be right in the restaurant Piazza! ( La Bomba Italian Restaurant)
URL:https://kathleenpeace.com/events/miromar-outlets-restaurant-piazza/
LOCATION:A Members Only
CATEGORIES:Come and sing one with me,Solo Performance,Vocal Entertainer for the evening
ATTACH;FMTTYPE=image/jpeg:https://kathleenpeace.com/wp-content/uploads/2022/11/50556468_219833458834590_5506385825681637376_n.jpg
END:VEVENT
BEGIN:VEVENT
DTSTART;TZID=UTC:20221202T180000
DTEND;TZID=UTC:20221202T220000
DTSTAMP:20260421T212814
CREATED:20220807T235717Z
LAST-MODIFIED:20221028T215110Z
UID:805-1670004000-1670018400@kathleenpeace.com
SUMMARY:Art Walk Fort Myers Downtown District
DESCRIPTION:Happy Holidays!                                                                                                                                          An evening with Vendors and  Artists\, and Musical magic Hosted by The River District Alliance… Enjoy wonderful restaurants and local water holes Too!                                                  Downtown Fort Myers River District… Join us!
URL:https://kathleenpeace.com/events/art-walk-fort-myers-downtown-district/
LOCATION:Downtown Fort Myers River District\, Fort Myers\, FL\, United States
CATEGORIES:Come and sing one with me,Vocal Entertainer for the evening
ATTACH;FMTTYPE=image/jpeg:https://kathleenpeace.com/wp-content/uploads/2019/02/378056_3620581232275_870895468_n.jpg
END:VEVENT
BEGIN:VEVENT
DTSTART;TZID=UTC:20221118T183000
DTEND;TZID=UTC:20221118T213000
DTSTAMP:20260421T212814
CREATED:20220908T022620Z
LAST-MODIFIED:20221028T184648Z
UID:828-1668796200-1668807000@kathleenpeace.com
SUMMARY:Heritage Palms Poolside
DESCRIPTION:Performing with the Brylcream Boys!!!
URL:https://kathleenpeace.com/events/music-walk-downtown-fort-myers-river-district/
LOCATION:By Invitation
CATEGORIES:Guest Appearance,Vocal Entertainer for the evening
ATTACH;FMTTYPE=image/jpeg:https://kathleenpeace.com/wp-content/uploads/2022/08/1234111096970782668.jpg
END:VEVENT
BEGIN:VEVENT
DTSTART;TZID=UTC:20221104T180000
DTEND;TZID=UTC:20221104T220000
DTSTAMP:20260421T212814
CREATED:20220807T235259Z
LAST-MODIFIED:20221028T215119Z
UID:803-1667584800-1667599200@kathleenpeace.com
SUMMARY:Art Walk Downtown Fort Myers River District
DESCRIPTION:“The Art of the Cocktail” Local Celebrities will be judging Cocktail Creations!                                An evening with Vendors and  Artists\, and Musical magic Hosted by The River District Alliance… Enjoy wonderful restaurants and local water holes Too!                                                  Downtown Fort Myers River District… Join us!
URL:https://kathleenpeace.com/events/art-walk-downtown-fort-myers-river-district-2/
CATEGORIES:Come and sing one with me,Vocal Entertainer for the evening
ATTACH;FMTTYPE=image/jpeg:https://kathleenpeace.com/wp-content/uploads/2019/02/10374516_10153460460273408_8084952851961975004_n.jpg
END:VEVENT
BEGIN:VEVENT
DTSTART;TZID=UTC:20221031T183000
DTEND;TZID=UTC:20221031T213000
DTSTAMP:20260421T212814
CREATED:20220806T183622Z
LAST-MODIFIED:20221028T185100Z
UID:794-1667241000-1667251800@kathleenpeace.com
SUMMARY:Halloween at Heritage Palms CC
DESCRIPTION:Where all the Ghouls and Boys\, and Goblins have fun!
URL:https://kathleenpeace.com/events/flamingo-october-fest/
LOCATION:By Invitation
CATEGORIES:Guest Appearance,Vocal Entertainer for the evening
ATTACH;FMTTYPE=image/jpeg:https://kathleenpeace.com/wp-content/uploads/2022/08/572775410740783615.jpg
END:VEVENT
END:VCALENDAR