BEGIN:VCALENDAR
VERSION:2.0
PRODID:-//Peace &amp; Music - ECPv6.15.13//NONSGML v1.0//EN
CALSCALE:GREGORIAN
METHOD:PUBLISH
X-WR-CALNAME:Peace &amp; Music
X-ORIGINAL-URL:https://kathleenpeace.com
X-WR-CALDESC:Events for Peace &amp; Music
REFRESH-INTERVAL;VALUE=DURATION:PT1H
X-Robots-Tag:noindex
X-PUBLISHED-TTL:PT1H
BEGIN:VTIMEZONE
TZID:UTC
BEGIN:STANDARD
TZOFFSETFROM:+0000
TZOFFSETTO:+0000
TZNAME:UTC
DTSTART:20220101T000000
END:STANDARD
END:VTIMEZONE
BEGIN:VEVENT
DTSTART;TZID=UTC:20230903T130000
DTEND;TZID=UTC:20230903T160000
DTSTAMP:20260425T153049
CREATED:20230831T210239Z
LAST-MODIFIED:20230831T210239Z
UID:1112-1693746000-1693756800@kathleenpeace.com
SUMMARY:Miromar at Fords Garage
DESCRIPTION:A Sunday afternoon of food drink and song
URL:https://kathleenpeace.com/events/miromar-at-fords-garage/
LOCATION:Join Me for some “Peace & Music”
CATEGORIES:Come and sing one with me,Solo Performance
ATTACH;FMTTYPE=image/jpeg:https://kathleenpeace.com/wp-content/uploads/2022/08/MIC.jpg
END:VEVENT
BEGIN:VEVENT
DTSTART;TZID=UTC:20230905T170000
DTEND;TZID=UTC:20230905T190000
DTSTAMP:20260425T153049
CREATED:20230715T003230Z
LAST-MODIFIED:20230721T195816Z
UID:1072-1693933200-1693940400@kathleenpeace.com
SUMMARY:Vasari Country Club
DESCRIPTION: there’s always room on the dance floor!
URL:https://kathleenpeace.com/events/marios-with-the-brylcream-boys-6/
LOCATION:A Members Only
CATEGORIES:Guest Appearance,Solo Performance
ATTACH;FMTTYPE=image/jpeg:https://kathleenpeace.com/wp-content/uploads/2019/02/cropped-403821_3212992858025_1165999986_n.jpg
END:VEVENT
BEGIN:VEVENT
DTSTART;TZID=UTC:20230915T180000
DTEND;TZID=UTC:20230915T220000
DTSTAMP:20260425T153049
CREATED:20230831T210458Z
LAST-MODIFIED:20230831T210458Z
UID:1114-1694800800-1694815200@kathleenpeace.com
SUMMARY:Music Walk
DESCRIPTION:Join us downtown Fort Myers where the River district alliance is putting on the Ritz. Downtown is filled with wonderful venues of music food and beverage. Join us from 6:00 to 10:00
URL:https://kathleenpeace.com/events/music-walk-5/
LOCATION:Open to Everyone!
CATEGORIES:Solo Performance
ATTACH;FMTTYPE=image/jpeg:https://kathleenpeace.com/wp-content/uploads/2019/02/cropped-cropped-403821_3212992858025_1165999986_n.jpg
END:VEVENT
END:VCALENDAR