BEGIN:VCALENDAR
VERSION:2.0
PRODID:-//Peace &amp; Music - ECPv6.15.13//NONSGML v1.0//EN
CALSCALE:GREGORIAN
METHOD:PUBLISH
X-WR-CALNAME:Peace &amp; Music
X-ORIGINAL-URL:https://kathleenpeace.com
X-WR-CALDESC:Events for Peace &amp; Music
REFRESH-INTERVAL;VALUE=DURATION:PT1H
X-Robots-Tag:noindex
X-PUBLISHED-TTL:PT1H
BEGIN:VTIMEZONE
TZID:UTC
BEGIN:STANDARD
TZOFFSETFROM:+0000
TZOFFSETTO:+0000
TZNAME:UTC
DTSTART:20220101T000000
END:STANDARD
END:VTIMEZONE
BEGIN:VEVENT
DTSTART;TZID=UTC:20230903T130000
DTEND;TZID=UTC:20230903T160000
DTSTAMP:20260425T165355
CREATED:20230831T210239Z
LAST-MODIFIED:20230831T210239Z
UID:1112-1693746000-1693756800@kathleenpeace.com
SUMMARY:Miromar at Fords Garage
DESCRIPTION:A Sunday afternoon of food drink and song
URL:https://kathleenpeace.com/events/miromar-at-fords-garage/
LOCATION:Join Me for some “Peace & Music”
CATEGORIES:Come and sing one with me,Solo Performance
ATTACH;FMTTYPE=image/jpeg:https://kathleenpeace.com/wp-content/uploads/2022/08/MIC.jpg
END:VEVENT
END:VCALENDAR