BEGIN:VCALENDAR
VERSION:2.0
PRODID:-//Peace &amp; Music - ECPv6.15.13//NONSGML v1.0//EN
CALSCALE:GREGORIAN
METHOD:PUBLISH
X-ORIGINAL-URL:https://kathleenpeace.com
X-WR-CALDESC:Events for Peace &amp; Music
REFRESH-INTERVAL;VALUE=DURATION:PT1H
X-Robots-Tag:noindex
X-PUBLISHED-TTL:PT1H
BEGIN:VTIMEZONE
TZID:UTC
BEGIN:STANDARD
TZOFFSETFROM:+0000
TZOFFSETTO:+0000
TZNAME:UTC
DTSTART:20220101T000000
END:STANDARD
END:VTIMEZONE
BEGIN:VEVENT
DTSTART;TZID=UTC:20231015T130000
DTEND;TZID=UTC:20231015T160000
DTSTAMP:20260425T152821
CREATED:20230920T163307Z
LAST-MODIFIED:20230920T163307Z
UID:1142-1697374800-1697385600@kathleenpeace.com
SUMMARY:Miromar Outlets
DESCRIPTION:A day of shopping\, enjoying a bite to eat\, or a cocktail or two\, and some Peace and Music . \nI’ll see you in the Piazza! I think that means food court in Italian! ☺️ \n 
URL:https://kathleenpeace.com/events/miromar-outlets/
CATEGORIES:Guest Appearance,Solo Performance
ATTACH;FMTTYPE=image/jpeg:https://kathleenpeace.com/wp-content/uploads/2022/11/50556468_219833458834590_5506385825681637376_n.jpg
END:VEVENT
END:VCALENDAR