BEGIN:VCALENDAR
VERSION:2.0
PRODID:-//Peace &amp; Music - ECPv6.15.13//NONSGML v1.0//EN
CALSCALE:GREGORIAN
METHOD:PUBLISH
X-ORIGINAL-URL:https://kathleenpeace.com
X-WR-CALDESC:Events for Peace &amp; Music
REFRESH-INTERVAL;VALUE=DURATION:PT1H
X-Robots-Tag:noindex
X-PUBLISHED-TTL:PT1H
BEGIN:VTIMEZONE
TZID:UTC
BEGIN:STANDARD
TZOFFSETFROM:+0000
TZOFFSETTO:+0000
TZNAME:UTC
DTSTART:20240101T000000
END:STANDARD
END:VTIMEZONE
BEGIN:VEVENT
DTSTART;TZID=UTC:20250715T170000
DTEND;TZID=UTC:20250715T200000
DTSTAMP:20260424T090016
CREATED:20250323T144815Z
LAST-MODIFIED:20250323T144815Z
UID:1739-1752598800-1752609600@kathleenpeace.com
SUMMARY:Vasari Country Club
DESCRIPTION:Tuesday Fun!
URL:https://kathleenpeace.com/events/vasari-country-club-19/
LOCATION:Members Only
CATEGORIES:Solo Performance
ATTACH;FMTTYPE=image/jpeg:https://kathleenpeace.com/wp-content/uploads/2025/01/0.jpg
END:VEVENT
END:VCALENDAR