BEGIN:VCALENDAR
VERSION:2.0
PRODID:-//Peace &amp; Music - ECPv6.15.13//NONSGML v1.0//EN
CALSCALE:GREGORIAN
METHOD:PUBLISH
X-WR-CALNAME:Peace &amp; Music
X-ORIGINAL-URL:https://kathleenpeace.com
X-WR-CALDESC:Events for Peace &amp; Music
REFRESH-INTERVAL;VALUE=DURATION:PT1H
X-Robots-Tag:noindex
X-PUBLISHED-TTL:PT1H
BEGIN:VTIMEZONE
TZID:UTC
BEGIN:STANDARD
TZOFFSETFROM:+0000
TZOFFSETTO:+0000
TZNAME:UTC
DTSTART:20240101T000000
END:STANDARD
END:VTIMEZONE
BEGIN:VEVENT
DTSTART;TZID=UTC:20251207T183000
DTEND;TZID=UTC:20251207T213000
DTSTAMP:20260421T230043
CREATED:20250701T194934Z
LAST-MODIFIED:20250701T194934Z
UID:1891-1765132200-1765143000@kathleenpeace.com
SUMMARY:Brylcream Private Party
DESCRIPTION:the Italian Social Club
URL:https://kathleenpeace.com/events/brylcream-private-party/
LOCATION:A Members Only
CATEGORIES:Guest appearance with Brylcream
ATTACH;FMTTYPE=image/jpeg:https://kathleenpeace.com/wp-content/uploads/2025/04/Messenger_creation_35F8AC9F-44C2-4E15-85DE-81117E2CF75D.jpeg
END:VEVENT
BEGIN:VEVENT
DTSTART;TZID=UTC:20251212T160000
DTEND;TZID=UTC:20251212T190000
DTSTAMP:20260421T230043
CREATED:20251115T025333Z
LAST-MODIFIED:20251115T025333Z
UID:2009-1765555200-1765566000@kathleenpeace.com
SUMMARY:Miramar outlets by The fountain at Rush In n
DESCRIPTION:I’ll be playing your favorites. Come hang out…
URL:https://kathleenpeace.com/events/miramar-outlets-by-the-fountain-at-rush-in-n/
LOCATION:Join Me for some “Peace & Music”
ATTACH;FMTTYPE=image/jpeg:https://kathleenpeace.com/wp-content/uploads/2025/06/Messenger_creation_E24AD20A-F74D-45BC-8C84-854AA6DC7CFD.jpeg
END:VEVENT
BEGIN:VEVENT
DTSTART;TZID=UTC:20251226T160000
DTEND;TZID=UTC:20251226T190000
DTSTAMP:20260421T230043
CREATED:20251115T025648Z
LAST-MODIFIED:20251115T025648Z
UID:2011-1766764800-1766775600@kathleenpeace.com
SUMMARY:Miramar by the fountain at Rush In
DESCRIPTION:Come hang out with a glass of wine or not. LOL but just come… And sing one with me
URL:https://kathleenpeace.com/events/miramar-by-the-fountain-at-rush-in/
LOCATION:Open to Everyone!
ATTACH;FMTTYPE=image/jpeg:https://kathleenpeace.com/wp-content/uploads/2025/01/Messenger_creation_48B0578E-F43E-4A40-B76B-2878DFC44DA9.jpeg
END:VEVENT
BEGIN:VEVENT
DTSTART;TZID=UTC:20251228T160000
DTEND;TZID=UTC:20251228T190000
DTSTAMP:20260421T230043
CREATED:20251002T230836Z
LAST-MODIFIED:20251005T121601Z
UID:1968-1766937600-1766948400@kathleenpeace.com
SUMMARY:R A D WINERY
DESCRIPTION:Performing as peaceful. Easy feeling with Tommy on piano. \nAlways a fun afternoon with food trucks and the best venue for relaxing with a bottle of wine \n 
URL:https://kathleenpeace.com/events/r-a-d-winery-3/
LOCATION:Open to Everyone!
ATTACH;FMTTYPE=image/png:https://kathleenpeace.com/wp-content/uploads/2025/10/IMG_20251005_081015.png
END:VEVENT
BEGIN:VEVENT
DTSTART;TZID=UTC:20260102T180000
DTEND;TZID=UTC:20260102T210000
DTSTAMP:20260421T230043
CREATED:20250701T195400Z
LAST-MODIFIED:20250701T195400Z
UID:1893-1767376800-1767387600@kathleenpeace.com
SUMMARY:Brylcream event at Island House
DESCRIPTION:Come out and play! \nThe Island House \n3801 Bonita Beach Rd SW\, Bonita Springs\, FL 34134
URL:https://kathleenpeace.com/events/brylcream-event-at-island-house/
LOCATION:Open to Everyone!
CATEGORIES:Guest appearance with Brylcream
ATTACH;FMTTYPE=image/jpeg:https://kathleenpeace.com/wp-content/uploads/2025/06/Messenger_creation_31B4232D-0CC2-4CFE-8A93-2A5AB6B28CDF.jpeg
END:VEVENT
BEGIN:VEVENT
DTSTART;TZID=UTC:20260106T160000
DTEND;TZID=UTC:20260106T190000
DTSTAMP:20260421T230043
CREATED:20251212T161349Z
LAST-MODIFIED:20251212T161349Z
UID:2032-1767715200-1767726000@kathleenpeace.com
SUMMARY:Miramar outlets\, The fountains by Michael kors
DESCRIPTION:Enjoy an afternoon of cocktails\, great food\, terrific sales\, and also fabulous music with me. Stop by and sing one!
URL:https://kathleenpeace.com/events/miramar-outlets-the-fountains-by-michael-kors/
ATTACH;FMTTYPE=image/jpeg:https://kathleenpeace.com/wp-content/uploads/2025/06/Messenger_creation_31B4232D-0CC2-4CFE-8A93-2A5AB6B28CDF.jpeg
END:VEVENT
BEGIN:VEVENT
DTSTART;TZID=UTC:20260113T210000
DTEND;TZID=UTC:20260114T000000
DTSTAMP:20260421T230043
CREATED:20251205T213334Z
LAST-MODIFIED:20251205T213334Z
UID:2017-1768338000-1768348800@kathleenpeace.com
SUMMARY:Virgilio's martini bar
DESCRIPTION:I’m headed to key West this week. Be performing with Skipper crivitz\, Larry Smith and Christine cordone. If you’re in key West\, stop by
URL:https://kathleenpeace.com/events/virgilios-martini-bar/
ATTACH;FMTTYPE=image/jpeg:https://kathleenpeace.com/wp-content/uploads/2025/04/FB_IMG_1743712748643.jpg
END:VEVENT
BEGIN:VEVENT
DTSTART;TZID=UTC:20260114T190000
DTEND;TZID=UTC:20260114T220000
DTSTAMP:20260421T230043
CREATED:20251205T214429Z
LAST-MODIFIED:20251205T214429Z
UID:2024-1768417200-1768428000@kathleenpeace.com
SUMMARY:Larry Smith showcase
DESCRIPTION:This is definitely going to be a fun experience. Meet some of the most talented\, And funniest women of key West
URL:https://kathleenpeace.com/events/larry-smith-showcase-2/
ATTACH;FMTTYPE=image/jpeg:https://kathleenpeace.com/wp-content/uploads/2025/12/Ladies-night-with-Larry-Smith.jpg
END:VEVENT
BEGIN:VEVENT
DTSTART;TZID=UTC:20260117T180000
DTEND;TZID=UTC:20260117T210000
DTSTAMP:20260421T230043
CREATED:20250607T203914Z
LAST-MODIFIED:20250607T204159Z
UID:1863-1768672800-1768683600@kathleenpeace.com
SUMMARY:Bob's Birthday Bash
DESCRIPTION:By invite only
URL:https://kathleenpeace.com/events/birthday-bash/
LOCATION:By Invitation
CATEGORIES:Guest Appearance
ATTACH;FMTTYPE=image/jpeg:https://kathleenpeace.com/wp-content/uploads/2025/04/Messenger_creation_006EAA9F-4817-4274-8D82-2CB229071771.jpeg
END:VEVENT
BEGIN:VEVENT
DTSTART;TZID=UTC:20260123T170000
DTEND;TZID=UTC:20260123T200000
DTSTAMP:20260421T230043
CREATED:20250607T204109Z
LAST-MODIFIED:20250607T204109Z
UID:1867-1769187600-1769198400@kathleenpeace.com
SUMMARY:Vasari
DESCRIPTION:Members only
URL:https://kathleenpeace.com/events/vasari-3/
CATEGORIES:Guest Appearance
ATTACH;FMTTYPE=image/jpeg:https://kathleenpeace.com/wp-content/uploads/2025/04/unnamed-12-scaled.jpg
END:VEVENT
BEGIN:VEVENT
DTSTART;TZID=UTC:20260126T183000
DTEND;TZID=UTC:20260126T203000
DTSTAMP:20260421T230043
CREATED:20260122T124240Z
LAST-MODIFIED:20260122T124240Z
UID:2070-1769452200-1769459400@kathleenpeace.com
SUMMARY:Daddy D's ice cream concert
DESCRIPTION:An outdoor concert with Brylcream at Daddy D’s ice cream shop. Now that’s always fun!!
URL:https://kathleenpeace.com/events/daddy-ds-ice-cream-concert/
ATTACH;FMTTYPE=image/jpeg:https://kathleenpeace.com/wp-content/uploads/2026/01/FB_IMG_1769085151420.jpg
END:VEVENT
BEGIN:VEVENT
DTSTART;TZID=UTC:20260205T190000
DTEND;TZID=UTC:20260205T220000
DTSTAMP:20260421T230043
CREATED:20260202T001026Z
LAST-MODIFIED:20260202T001026Z
UID:2077-1770318000-1770328800@kathleenpeace.com
SUMMARY:Raintree RV Resort
DESCRIPTION:It’s a sock hop tonight with the brylcream boys Complete with greasers\, saddle shoes and poodle skirts! \n 
URL:https://kathleenpeace.com/events/raintree-rv-resort/
ATTACH;FMTTYPE=image/jpeg:https://kathleenpeace.com/wp-content/uploads/2025/09/PXL_20250717_174528145.MP2_-scaled.jpg
END:VEVENT
BEGIN:VEVENT
DTSTART;TZID=UTC:20260206T180000
DTEND;TZID=UTC:20260206T210000
DTSTAMP:20260421T230043
CREATED:20250701T195545Z
LAST-MODIFIED:20251028T003334Z
UID:1895-1770400800-1770411600@kathleenpeace.com
SUMMARY:Artwalk!
DESCRIPTION:Come out and play! \nDowntown fort Myers. And what a fabulous night it will be and it’s free!
URL:https://kathleenpeace.com/events/brylcream-event-at-the-island-house/
LOCATION:Open to Everyone!
CATEGORIES:Guest appearance with Brylcream
ATTACH;FMTTYPE=image/jpeg:https://kathleenpeace.com/wp-content/uploads/2024/11/IMG_20241118_133840.jpg
END:VEVENT
BEGIN:VEVENT
DTSTART;TZID=UTC:20260214T190000
DTEND;TZID=UTC:20260214T220000
DTSTAMP:20260421T230043
CREATED:20260126T122106Z
LAST-MODIFIED:20260202T001404Z
UID:2075-1771095600-1771106400@kathleenpeace.com
SUMMARY:Happy Valentine's Day at Quail Creek country club
DESCRIPTION:It’s a country club affair. \nBy invitation only
URL:https://kathleenpeace.com/events/happy-valentines-day/
ATTACH;FMTTYPE=image/jpeg:https://kathleenpeace.com/wp-content/uploads/2025/04/Messenger_creation_737C229B-DD71-444F-8DB8-26EB0CB07E18.jpeg
END:VEVENT
BEGIN:VEVENT
DTSTART;TZID=UTC:20260216T180000
DTEND;TZID=UTC:20260216T200000
DTSTAMP:20260421T230043
CREATED:20251005T122216Z
LAST-MODIFIED:20251005T122414Z
UID:1979-1771264800-1771272000@kathleenpeace.com
SUMMARY:At Daddy D's ice cream shop with real cream
DESCRIPTION:This is a fun event. It’s a parking lot Concert!!! free of charge. Bring a chair and a cooler and have an ice cream sundae while you’re there. The music is fabulous and the fun is grandiose
URL:https://kathleenpeace.com/events/at-daddy-ds-ice-cream-shop-with-real-cream/
LOCATION:Open to Everyone!
ATTACH;FMTTYPE=image/jpeg:https://kathleenpeace.com/wp-content/uploads/2024/03/3.jpg
END:VEVENT
BEGIN:VEVENT
DTSTART;TZID=UTC:20260217T160000
DTEND;TZID=UTC:20260217T190000
DTSTAMP:20260421T230043
CREATED:20260109T212346Z
LAST-MODIFIED:20260109T212346Z
UID:2061-1771344000-1771354800@kathleenpeace.com
SUMMARY:Miramar at the fountain by Ralph Lauren
DESCRIPTION:Stop by and sing one with me while you’re shopping. And having fun
URL:https://kathleenpeace.com/events/miramar-at-the-fountain-by-ralph-lauren/
ATTACH;FMTTYPE=image/jpeg:https://kathleenpeace.com/wp-content/uploads/2025/12/FB_IMG_1765109210970-1.jpg
END:VEVENT
BEGIN:VEVENT
DTSTART;TZID=UTC:20260218T170000
DTEND;TZID=UTC:20260218T190000
DTSTAMP:20260421T230043
CREATED:20260218T014322Z
LAST-MODIFIED:20260214T015557Z
UID:2083-1771434000-1771441200@kathleenpeace.com
SUMMARY:Roast and rush kava bar
DESCRIPTION:And outdoor concert with.      Brylcream. \nRoast and Rush and kava bar 15495 tamiami trail
URL:https://kathleenpeace.com/events/roast-and-rush-kava-bar/
ATTACH;FMTTYPE=image/jpeg:https://kathleenpeace.com/wp-content/uploads/2026/01/610402645_2633111877071439_501133839621128434_n.jpg
END:VEVENT
BEGIN:VEVENT
DTSTART;TZID=UTC:20260220T180000
DTEND;TZID=UTC:20260220T210000
DTSTAMP:20260421T230043
CREATED:20260214T014545Z
LAST-MODIFIED:20260214T014545Z
UID:2085-1771610400-1771621200@kathleenpeace.com
SUMMARY:Island House
DESCRIPTION:Performing from 6:00 to 9:00 with Brylcream  at the island house located at 3801 Bonita Beach road in Bonita Springs \n  \n 
URL:https://kathleenpeace.com/events/island-house/
ATTACH;FMTTYPE=image/jpeg:https://kathleenpeace.com/wp-content/uploads/2026/01/610402645_2633111877071439_501133839621128434_n.jpg
END:VEVENT
BEGIN:VEVENT
DTSTART;TZID=UTC:20260221T050000
DTEND;TZID=UTC:20260221T200000
DTSTAMP:20260421T230043
CREATED:20260214T014700Z
LAST-MODIFIED:20260214T014700Z
UID:2087-1771650000-1771704000@kathleenpeace.com
SUMMARY:Country Creek
DESCRIPTION:Members only
URL:https://kathleenpeace.com/events/country-creek-3/
ATTACH;FMTTYPE=image/jpeg:https://kathleenpeace.com/wp-content/uploads/2025/12/1000000888-scaled.jpg
END:VEVENT
BEGIN:VEVENT
DTSTART;TZID=UTC:20260304T170000
DTEND;TZID=UTC:20260304T190000
DTSTAMP:20260421T230043
CREATED:20260303T005838Z
LAST-MODIFIED:20260303T005838Z
UID:2099-1772643600-1772650800@kathleenpeace.com
SUMMARY:Roast and Rush Kava bar
DESCRIPTION:Outdoor concert with Brylcream \n 
URL:https://kathleenpeace.com/events/roast-and-rush-kava-bar-2/
ATTACH;FMTTYPE=image/jpeg:https://kathleenpeace.com/wp-content/uploads/2026/01/610402645_2633111877071439_501133839621128434_n.jpg
END:VEVENT
BEGIN:VEVENT
DTSTART;TZID=UTC:20260306T170000
DTEND;TZID=UTC:20260306T210000
DTSTAMP:20260421T230043
CREATED:20250607T204455Z
LAST-MODIFIED:20250607T204455Z
UID:1872-1772816400-1772830800@kathleenpeace.com
SUMMARY:ArtWalk
DESCRIPTION:
URL:https://kathleenpeace.com/events/artwalk-4/
LOCATION:Downtown Fort Myers River District\, Fort Myers\, FL\, United States
CATEGORIES:Come and sing one with me
ATTACH;FMTTYPE=image/jpeg:https://kathleenpeace.com/wp-content/uploads/2024/10/Messenger_creation_48B0578E-F43E-4A40-B76B-2878DFC44DA9.jpeg
END:VEVENT
BEGIN:VEVENT
DTSTART;TZID=UTC:20260307T180000
DTEND;TZID=UTC:20260307T210000
DTSTAMP:20260421T230044
CREATED:20251024T225302Z
LAST-MODIFIED:20260214T015852Z
UID:1996-1772906400-1772917200@kathleenpeace.com
SUMMARY:Island house
DESCRIPTION:I’ll be performing with brycream from 6:00 to 9:00 at the island house 3801 Bonita Beach road in Bonita Springs. See you there!
URL:https://kathleenpeace.com/events/another-private-party/
LOCATION:By Invitation
ATTACH;FMTTYPE=image/jpeg:https://kathleenpeace.com/wp-content/uploads/2025/04/Messenger_creation_56A10EF4-BA71-4C6E-A6F3-B07A2C0A3D2D.jpeg
END:VEVENT
BEGIN:VEVENT
DTSTART;TZID=UTC:20260312T040000
DTEND;TZID=UTC:20260312T190000
DTSTAMP:20260421T230044
CREATED:20260214T014920Z
LAST-MODIFIED:20260214T014920Z
UID:2090-1773288000-1773342000@kathleenpeace.com
SUMMARY:Miramar Ralph Lauren
DESCRIPTION:I’ll be out by the fountain singing your favorites…
URL:https://kathleenpeace.com/events/miramar-ralph-lauren/
ATTACH;FMTTYPE=image/jpeg:https://kathleenpeace.com/wp-content/uploads/2025/06/Messenger_creation_BD4FAABB-46F9-4D93-9AF1-833D91C0E876.jpeg
END:VEVENT
BEGIN:VEVENT
DTSTART;TZID=UTC:20260317T180000
DTEND;TZID=UTC:20260317T210000
DTSTAMP:20260421T230044
CREATED:20251024T225442Z
LAST-MODIFIED:20251024T225442Z
UID:1998-1773770400-1773781200@kathleenpeace.com
SUMMARY:Country Creek
DESCRIPTION:members only affair…
URL:https://kathleenpeace.com/events/country-creek-2/
LOCATION:A Members Only
ATTACH;FMTTYPE=image/jpeg:https://kathleenpeace.com/wp-content/uploads/2025/04/Messenger_creation_350B7F97-3455-4CE4-ADA1-D1EE18370195.jpeg
END:VEVENT
BEGIN:VEVENT
DTSTART;TZID=UTC:20260321T190000
DTEND;TZID=UTC:20260321T220000
DTSTAMP:20260421T230044
CREATED:20251002T004212Z
LAST-MODIFIED:20251002T004212Z
UID:1966-1774119600-1774130400@kathleenpeace.com
SUMMARY:Over the rainbow with brylcream
DESCRIPTION:A private event\, but I’ll be dressed up as Dorothy from The wizard of Oz.
URL:https://kathleenpeace.com/events/over-the-rainbow-with-brylcream/
CATEGORIES:Guest appearance with Brylcream
ATTACH;FMTTYPE=image/jpeg:https://kathleenpeace.com/wp-content/uploads/2025/07/PXL_20250717_174528145.MP2_-scaled.jpg
END:VEVENT
BEGIN:VEVENT
DTSTART;TZID=UTC:20260327T170000
DTEND;TZID=UTC:20260327T200000
DTSTAMP:20260421T230044
CREATED:20250327T155049Z
LAST-MODIFIED:20250607T202435Z
UID:1769-1774630800-1774641600@kathleenpeace.com
SUMMARY:Vasari
DESCRIPTION:Happy Hour
URL:https://kathleenpeace.com/events/vasari-2/
CATEGORIES:Private Affair,Solo Performance
ATTACH;FMTTYPE=image/jpeg:https://kathleenpeace.com/wp-content/uploads/2025/04/Messenger_creation_35F8AC9F-44C2-4E15-85DE-81117E2CF75D.jpeg
END:VEVENT
BEGIN:VEVENT
DTSTART;TZID=UTC:20260328T173000
DTEND;TZID=UTC:20260328T210000
DTSTAMP:20260421T230044
CREATED:20260117T172026Z
LAST-MODIFIED:20260117T172026Z
UID:2065-1774719000-1774731600@kathleenpeace.com
SUMMARY:Country Creek golf tournament gala
DESCRIPTION:Private affair with lots of men I presume LOL
URL:https://kathleenpeace.com/events/country-creek-golf-tournament-gala/
LOCATION:By Invitation
ATTACH;FMTTYPE=image/png:https://kathleenpeace.com/wp-content/uploads/2025/12/image.png
END:VEVENT
BEGIN:VEVENT
DTSTART;TZID=UTC:20260403T180000
DTEND;TZID=UTC:20260403T210000
DTSTAMP:20260421T230044
CREATED:20250701T195825Z
LAST-MODIFIED:20250701T195825Z
UID:1897-1775239200-1775250000@kathleenpeace.com
SUMMARY:Brylcream Concert at the Island House
DESCRIPTION:Come out and play! \nThe Island House \n3801 Bonita Beach Rd SW\, Bonita Springs\, FL 34134
URL:https://kathleenpeace.com/events/brylcream-concert-at-the-island-house/
LOCATION:Open to Everyone!
CATEGORIES:Guest appearance with Brylcream
ATTACH;FMTTYPE=image/jpeg:https://kathleenpeace.com/wp-content/uploads/2025/06/IMG_20250430_195640224-1-scaled.jpg
END:VEVENT
BEGIN:VEVENT
DTSTART;TZID=UTC:20260415T150000
DTEND;TZID=UTC:20260415T160000
DTSTAMP:20260421T230044
CREATED:20260410T002952Z
LAST-MODIFIED:20260410T002952Z
UID:2102-1776265200-1776268800@kathleenpeace.com
SUMMARY:All seasons
DESCRIPTION:A private affair
URL:https://kathleenpeace.com/events/all-seasons/
ATTACH;FMTTYPE=image/jpeg:https://kathleenpeace.com/wp-content/uploads/2026/01/610402645_2633111877071439_501133839621128434_n.jpg
END:VEVENT
BEGIN:VEVENT
DTSTART;TZID=UTC:20260415T173000
DTEND;TZID=UTC:20260415T203000
DTSTAMP:20260421T230044
CREATED:20260410T003548Z
LAST-MODIFIED:20260410T003548Z
UID:2104-1776274200-1776285000@kathleenpeace.com
SUMMARY:Arbor Trace
DESCRIPTION:A private affair
URL:https://kathleenpeace.com/events/arbor-trace/
ATTACH;FMTTYPE=image/png:https://kathleenpeace.com/wp-content/uploads/2026/04/IMG_20260406_205506.png
END:VEVENT
END:VCALENDAR