BEGIN:VCALENDAR
VERSION:2.0
PRODID:-//Peace &amp; Music - ECPv6.15.13//NONSGML v1.0//EN
CALSCALE:GREGORIAN
METHOD:PUBLISH
X-WR-CALNAME:Peace &amp; Music
X-ORIGINAL-URL:https://kathleenpeace.com
X-WR-CALDESC:Events for Peace &amp; Music
REFRESH-INTERVAL;VALUE=DURATION:PT1H
X-Robots-Tag:noindex
X-PUBLISHED-TTL:PT1H
BEGIN:VTIMEZONE
TZID:UTC
BEGIN:STANDARD
TZOFFSETFROM:+0000
TZOFFSETTO:+0000
TZNAME:UTC
DTSTART:20230101T000000
END:STANDARD
END:VTIMEZONE
BEGIN:VEVENT
DTSTART;TZID=UTC:20240905T183000
DTEND;TZID=UTC:20240905T200000
DTSTAMP:20260422T230646
CREATED:20240819T233332Z
LAST-MODIFIED:20240819T233804Z
UID:1502-1725561000-1725566400@kathleenpeace.com
SUMMARY:Mario's with Brylcream
DESCRIPTION:We’re back\, come on in and have some fun
URL:https://kathleenpeace.com/events/marios-with-brylcream-4/
LOCATION:Open to Everyone!
CATEGORIES:Guest appearance with Brylcream
ATTACH;FMTTYPE=image/jpeg:https://kathleenpeace.com/wp-content/uploads/2024/03/2.jpg
END:VEVENT
BEGIN:VEVENT
DTSTART;TZID=UTC:20240831T160000
DTEND;TZID=UTC:20240831T190000
DTSTAMP:20260422T230646
CREATED:20240716T181957Z
LAST-MODIFIED:20240716T182026Z
UID:1492-1725120000-1725130800@kathleenpeace.com
SUMMARY:Miromar at Kay Jeweler's
DESCRIPTION:It’s always a fun afternoon of shopping dining sipping on cocktails and enjoying some great music by The fountain. Hope to see you… \nAnd if you want to sing one just let me know!
URL:https://kathleenpeace.com/events/miromar-at-kay-jewelers-2/
LOCATION:Join Me for some “Peace & Music”
CATEGORIES:Vocal Entertainer for the evening
ATTACH;FMTTYPE=image/jpeg:https://kathleenpeace.com/wp-content/uploads/2024/05/17626108_1880563605500320_8503586434724531557_n-e1716654347568.jpg
END:VEVENT
BEGIN:VEVENT
DTSTART;TZID=UTC:20240827T170000
DTEND;TZID=UTC:20240827T200000
DTSTAMP:20260422T230646
CREATED:20240513T230028Z
LAST-MODIFIED:20240513T230028Z
UID:1443-1724778000-1724788800@kathleenpeace.com
SUMMARY:Vasari Country Club
DESCRIPTION:Members Happy Hour
URL:https://kathleenpeace.com/events/vasari-country-club-10/
LOCATION:A Members Only
CATEGORIES:Guest Appearance,Private Affair
ATTACH;FMTTYPE=image/jpeg:https://kathleenpeace.com/wp-content/uploads/2022/08/MIC.jpg
END:VEVENT
BEGIN:VEVENT
DTSTART;TZID=UTC:20240803T173000
DTEND;TZID=UTC:20240803T203000
DTSTAMP:20260422T230646
CREATED:20240731T155911Z
LAST-MODIFIED:20240731T160158Z
UID:1499-1722706200-1722717000@kathleenpeace.com
SUMMARY:Veranda Country Club
DESCRIPTION:A private party.
URL:https://kathleenpeace.com/events/veranda-country-club/
LOCATION:By Invitation
CATEGORIES:Guest Appearance
ATTACH;FMTTYPE=image/jpeg:https://kathleenpeace.com/wp-content/uploads/2023/09/3232251200814796500.jpg
END:VEVENT
BEGIN:VEVENT
DTSTART;TZID=UTC:20240802T170000
DTEND;TZID=UTC:20240802T210000
DTSTAMP:20260422T230646
CREATED:20240513T225851Z
LAST-MODIFIED:20240513T231432Z
UID:1441-1722618000-1722632400@kathleenpeace.com
SUMMARY:Art Walk
DESCRIPTION:Downtown Fort Myers… It’s the dog daze of Summer! Come on down
URL:https://kathleenpeace.com/events/art-walk-3/
LOCATION:Open to Everyone!
CATEGORIES:Come and sing one with me,Solo Performance
ATTACH;FMTTYPE=image/jpeg:https://kathleenpeace.com/wp-content/uploads/2022/08/artwalk2022-2.jpg
END:VEVENT
BEGIN:VEVENT
DTSTART;TZID=UTC:20240723T170000
DTEND;TZID=UTC:20240723T200000
DTSTAMP:20260422T230646
CREATED:20240513T225715Z
LAST-MODIFIED:20240513T225715Z
UID:1439-1721754000-1721764800@kathleenpeace.com
SUMMARY:Vasari Country Club
DESCRIPTION:Members Happy Hour
URL:https://kathleenpeace.com/events/vasari-country-club-9/
LOCATION:A Members Only
CATEGORIES:Private Affair
ATTACH;FMTTYPE=image/jpeg:https://kathleenpeace.com/wp-content/uploads/2022/07/My-project-2.jpg
END:VEVENT
BEGIN:VEVENT
DTSTART;TZID=UTC:20240720T160000
DTEND;TZID=UTC:20240720T190000
DTSTAMP:20260422T230646
CREATED:20240618T180453Z
LAST-MODIFIED:20240618T180453Z
UID:1488-1721491200-1721502000@kathleenpeace.com
SUMMARY:Kay Jewelers
DESCRIPTION:Come to Miramar for an afternoon of merriment shopping great food and drink\, and enjoy some fabulous music by The fountain
URL:https://kathleenpeace.com/events/kay-jewelers/
CATEGORIES:Come and sing one with me
ATTACH;FMTTYPE=image/jpeg:https://kathleenpeace.com/wp-content/uploads/2024/05/17626108_1880563605500320_8503586434724531557_n-e1716654347568.jpg
END:VEVENT
BEGIN:VEVENT
DTSTART;TZID=UTC:20240719T180000
DTEND;TZID=UTC:20240719T220000
DTSTAMP:20260422T230646
CREATED:20240717T005026Z
LAST-MODIFIED:20240717T005237Z
UID:1496-1721412000-1721426400@kathleenpeace.com
SUMMARY:Music Walk
DESCRIPTION:Sing\, dance\, walk\, repeat… and in between all of that going on enjoy some great restaurants\, cafes\, some wonderful food and beverages and the greatest music ever on every corner. See you there!
URL:https://kathleenpeace.com/events/music-walk-4/
CATEGORIES:Come and sing one with me,Solo Performance
ATTACH;FMTTYPE=image/jpeg:https://kathleenpeace.com/wp-content/uploads/2024/05/ss-1-e1716654599971.jpg
END:VEVENT
BEGIN:VEVENT
DTSTART;TZID=UTC:20240705T170000
DTEND;TZID=UTC:20240705T210000
DTSTAMP:20260422T230646
CREATED:20240513T225605Z
LAST-MODIFIED:20240513T231407Z
UID:1437-1720198800-1720213200@kathleenpeace.com
SUMMARY:Art Walk
DESCRIPTION:It’s a Party!!! Downtown Fort Myers
URL:https://kathleenpeace.com/events/art-walk-2/
LOCATION:Open to Everyone!
CATEGORIES:Come and sing one with me,Guest Appearance
ATTACH;FMTTYPE=image/jpeg:https://kathleenpeace.com/wp-content/uploads/2022/11/50556468_219833458834590_5506385825681637376_n.jpg
END:VEVENT
BEGIN:VEVENT
DTSTART;TZID=UTC:20240704T140000
DTEND;TZID=UTC:20240704T170000
DTSTAMP:20260422T230646
CREATED:20240618T152331Z
LAST-MODIFIED:20240618T152331Z
UID:1484-1720101600-1720112400@kathleenpeace.com
SUMMARY:Private 4th of July party
DESCRIPTION:And this one’s going to be a real hootenanny
URL:https://kathleenpeace.com/events/private-4th-of-july-party/
LOCATION:By Invitation
CATEGORIES:Private Affair
ATTACH;FMTTYPE=image/jpeg:https://kathleenpeace.com/wp-content/uploads/2024/05/ss-1-e1716654599971.jpg
END:VEVENT
BEGIN:VEVENT
DTSTART;TZID=UTC:20240625T170000
DTEND;TZID=UTC:20240625T200000
DTSTAMP:20260422T230646
CREATED:20240513T225320Z
LAST-MODIFIED:20240513T225320Z
UID:1435-1719334800-1719345600@kathleenpeace.com
SUMMARY:Vasari Country Club
DESCRIPTION:Members Happy Hour
URL:https://kathleenpeace.com/events/vasari-country-club-8/
LOCATION:A Members Only
CATEGORIES:Guest Appearance,Private Affair
ATTACH;FMTTYPE=image/jpeg:https://kathleenpeace.com/wp-content/uploads/2022/07/cropped-My-project-2.jpg
END:VEVENT
BEGIN:VEVENT
DTSTART;TZID=UTC:20240607T170000
DTEND;TZID=UTC:20240607T210000
DTSTAMP:20260422T230646
CREATED:20240416T203550Z
LAST-MODIFIED:20240604T213141Z
UID:1409-1717779600-1717794000@kathleenpeace.com
SUMMARY:Art Walk IS CANCELLED
DESCRIPTION:
URL:https://kathleenpeace.com/events/art-walk-downtown-fort-myers-7/
LOCATION:Downtown Fort Myers River District\, Fort Myers\, FL\, United States
CATEGORIES:Come and sing one with me,Guest Appearance
ATTACH;FMTTYPE=image/jpeg:https://kathleenpeace.com/wp-content/uploads/2022/08/artwalk2022-2.jpg
END:VEVENT
BEGIN:VEVENT
DTSTART;TZID=UTC:20240601T160000
DTEND;TZID=UTC:20240601T190000
DTSTAMP:20260422T230646
CREATED:20240525T162257Z
LAST-MODIFIED:20240525T162257Z
UID:1476-1717257600-1717268400@kathleenpeace.com
SUMMARY:Kay Jewelers at Miramar Outlets
DESCRIPTION:Come to the outlets and have some fun!
URL:https://kathleenpeace.com/events/kay-jewelers-at-miramar-outlets/
LOCATION:Open to Everyone!
CATEGORIES:Come and sing one with me,Solo Performance
ATTACH;FMTTYPE=image/jpeg:https://kathleenpeace.com/wp-content/uploads/2019/02/cropped-403821_3212992858025_1165999986_n.jpg
END:VEVENT
BEGIN:VEVENT
DTSTART;TZID=UTC:20240601T160000
DTEND;TZID=UTC:20240601T190000
DTSTAMP:20260422T230646
CREATED:20240522T011943Z
LAST-MODIFIED:20240522T011943Z
UID:1474-1717257600-1717268400@kathleenpeace.com
SUMMARY:Kay Jeweler
DESCRIPTION:
URL:https://kathleenpeace.com/events/kay-jeweler/
LOCATION:Open to Everyone!
CATEGORIES:Come and sing one with me,Solo Performance
ATTACH;FMTTYPE=image/jpeg:https://kathleenpeace.com/wp-content/uploads/2023/10/received_357102543493914-scaled.jpeg
END:VEVENT
BEGIN:VEVENT
DTSTART;TZID=UTC:20240525T160000
DTEND;TZID=UTC:20240525T190000
DTSTAMP:20260422T230646
CREATED:20240416T203338Z
LAST-MODIFIED:20240416T203350Z
UID:1406-1716652800-1716663600@kathleenpeace.com
SUMMARY:Kay Jewelers At Miromar
DESCRIPTION:Shop Dine Enjoy some Peace & Music
URL:https://kathleenpeace.com/events/kay-jewelers-at-miromar-3/
LOCATION:Open to Everyone!
CATEGORIES:Come and sing one with me,Vocal Entertainer for the evening
ATTACH;FMTTYPE=image/png:https://kathleenpeace.com/wp-content/uploads/2012/04/1-00001.png
END:VEVENT
BEGIN:VEVENT
DTSTART;TZID=UTC:20240517T060000
DTEND;TZID=UTC:20240517T220000
DTSTAMP:20260422T230646
CREATED:20240220T200856Z
LAST-MODIFIED:20240220T200856Z
UID:1320-1715925600-1715983200@kathleenpeace.com
SUMMARY:Music Walk in Downtown Fort Myers
DESCRIPTION:There’s Music everywhere!
URL:https://kathleenpeace.com/events/music-walk-in-downtown-fort-myers/
LOCATION:Open to Everyone!
CATEGORIES:Guest Appearance,Solo Performance
ATTACH;FMTTYPE=image/jpeg:https://kathleenpeace.com/wp-content/uploads/2022/08/MIC.jpg
END:VEVENT
BEGIN:VEVENT
DTSTART;TZID=UTC:20240515T173000
DTEND;TZID=UTC:20240515T193000
DTSTAMP:20260422T230646
CREATED:20240505T213146Z
LAST-MODIFIED:20240505T213146Z
UID:1424-1715794200-1715801400@kathleenpeace.com
SUMMARY:Nectar Lab Coffee and Kava Bar
DESCRIPTION:An outdoor concert. No chairs needed!
URL:https://kathleenpeace.com/events/nectar-lab-coffee-and-kava-bar/
LOCATION:Open to Everyone!
CATEGORIES:Guest appearance with Brylcream
ATTACH;FMTTYPE=image/jpeg:https://kathleenpeace.com/wp-content/uploads/2024/03/2.jpg
END:VEVENT
BEGIN:VEVENT
DTSTART;TZID=UTC:20240514T170000
DTEND;TZID=UTC:20240514T200000
DTSTAMP:20260422T230646
CREATED:20240513T225157Z
LAST-MODIFIED:20240513T225157Z
UID:1433-1715706000-1715716800@kathleenpeace.com
SUMMARY:Vasari Country Club
DESCRIPTION:Members Happy Hour!
URL:https://kathleenpeace.com/events/vasari-country-club-7/
LOCATION:A Members Only
CATEGORIES:Private Affair,Solo Performance
ATTACH;FMTTYPE=image/jpeg:https://kathleenpeace.com/wp-content/uploads/2022/07/My-project-2.jpg
END:VEVENT
BEGIN:VEVENT
DTSTART;TZID=UTC:20240509T173000
DTEND;TZID=UTC:20240509T200000
DTSTAMP:20260422T230646
CREATED:20240421T191536Z
LAST-MODIFIED:20240421T191536Z
UID:1419-1715275800-1715284800@kathleenpeace.com
SUMMARY:Mario's with Brylcream
DESCRIPTION:Mario’s \n20301 Grande Oak Shop’s \nin Estero
URL:https://kathleenpeace.com/events/marios-with-brylcream-3/
LOCATION:Open to Everyone!
CATEGORIES:Guest Appearance
ATTACH;FMTTYPE=image/jpeg:https://kathleenpeace.com/wp-content/uploads/2023/09/3232251200814796500.jpg
END:VEVENT
BEGIN:VEVENT
DTSTART;TZID=UTC:20240508T173000
DTEND;TZID=UTC:20240508T193000
DTSTAMP:20260422T230646
CREATED:20240505T212624Z
LAST-MODIFIED:20240505T213245Z
UID:1422-1715189400-1715196600@kathleenpeace.com
SUMMARY:Nectar Lab and Kava Bar
DESCRIPTION:An outdoor event! But you don’t have to bring a chair!
URL:https://kathleenpeace.com/events/kava-nectar-bar/
LOCATION:Open to Everyone!
CATEGORIES:Guest appearance with Brylcream
ATTACH;FMTTYPE=image/jpeg:https://kathleenpeace.com/wp-content/uploads/2024/03/2.jpg
END:VEVENT
BEGIN:VEVENT
DTSTART;TZID=UTC:20240505T130000
DTEND;TZID=UTC:20240505T160000
DTSTAMP:20260422T230646
CREATED:20240416T203055Z
LAST-MODIFIED:20240416T203055Z
UID:1403-1714914000-1714924800@kathleenpeace.com
SUMMARY:Kay Jewelers at Miromar Outlets
DESCRIPTION:Shop   Dine   Enjoy
URL:https://kathleenpeace.com/events/kay-jewelers-at-miromar-outlets/
LOCATION:Join Me for some “Peace & Music”
CATEGORIES:Come and sing one with me,Solo Performance
ATTACH;FMTTYPE=image/jpeg:https://kathleenpeace.com/wp-content/uploads/2023/10/received_357102543493914-scaled.jpeg
END:VEVENT
BEGIN:VEVENT
DTSTART;TZID=UTC:20240503T170000
DTEND;TZID=UTC:20240503T210000
DTSTAMP:20260422T230646
CREATED:20240220T200700Z
LAST-MODIFIED:20240220T200700Z
UID:1318-1714755600-1714770000@kathleenpeace.com
SUMMARY:Art Walk Downtown Fort Myers
DESCRIPTION:A fun evening of vendors\, great food\, Music and mayhem!
URL:https://kathleenpeace.com/events/art-walk-downtown-fort-myers-6/
LOCATION:Join Me for some “Peace & Music”
CATEGORIES:Come and sing one with me,Guest Appearance,Solo Performance
ATTACH;FMTTYPE=image/jpeg:https://kathleenpeace.com/wp-content/uploads/2022/08/artwalk2022-2.jpg
END:VEVENT
BEGIN:VEVENT
DTSTART;TZID=UTC:20240502T173000
DTEND;TZID=UTC:20240502T200000
DTSTAMP:20260422T230646
CREATED:20240421T191409Z
LAST-MODIFIED:20240421T191409Z
UID:1417-1714671000-1714680000@kathleenpeace.com
SUMMARY:Mario's with Brylcream
DESCRIPTION:Mario’s \n20301 Grande Oak Shop’s \nin Estero
URL:https://kathleenpeace.com/events/marios-with-brylcream-2/
LOCATION:Open to Everyone!
CATEGORIES:Guest Appearance
ATTACH;FMTTYPE=image/jpeg:https://kathleenpeace.com/wp-content/uploads/2023/09/3232251200814796500.jpg
END:VEVENT
BEGIN:VEVENT
DTSTART;TZID=UTC:20240427T160000
DTEND;TZID=UTC:20240427T190000
DTSTAMP:20260422T230646
CREATED:20240319T180316Z
LAST-MODIFIED:20240319T180316Z
UID:1346-1714233600-1714244400@kathleenpeace.com
SUMMARY:Kay Jewelers at Miromar
DESCRIPTION:Shopping\, indulging\, and music all in one place! \nSee you there!
URL:https://kathleenpeace.com/events/kay-jewelers-at-miromar-2/
LOCATION:Open to Everyone!
CATEGORIES:Come and sing one with me,Solo Performance
ATTACH;FMTTYPE=image/jpeg:https://kathleenpeace.com/wp-content/uploads/2019/02/403821_3212992858025_1165999986_n.jpg
END:VEVENT
BEGIN:VEVENT
DTSTART;TZID=UTC:20240425T173000
DTEND;TZID=UTC:20240425T200000
DTSTAMP:20260422T230646
CREATED:20240421T191030Z
LAST-MODIFIED:20240421T191030Z
UID:1413-1714066200-1714075200@kathleenpeace.com
SUMMARY:Mario's with Brylcream
DESCRIPTION:Enjoy a nice dinner and dancing… Doowop to Motown   and all through the decades!
URL:https://kathleenpeace.com/events/marios-with-brylcream/
LOCATION:Open to Everyone!
CATEGORIES:Guest Appearance
ATTACH;FMTTYPE=image/jpeg:https://kathleenpeace.com/wp-content/uploads/2024/04/0.jpg
END:VEVENT
BEGIN:VEVENT
DTSTART;TZID=UTC:20240414T130000
DTEND;TZID=UTC:20240414T160000
DTSTAMP:20260422T230646
CREATED:20240319T180111Z
LAST-MODIFIED:20240319T180111Z
UID:1344-1713099600-1713110400@kathleenpeace.com
SUMMARY:Kay Jewelers at Miromar
DESCRIPTION:A day of merriment should include music! \nSee you there!
URL:https://kathleenpeace.com/events/kay-jewelers-at-miromar/
LOCATION:Open to Everyone!
CATEGORIES:Come and sing one with me,Guest Appearance
ATTACH;FMTTYPE=image/jpeg:https://kathleenpeace.com/wp-content/uploads/2022/11/271931426_10224224713377971_6727856647762747333_n.jpg
END:VEVENT
BEGIN:VEVENT
DTSTART;TZID=UTC:20240409T183000
DTEND;TZID=UTC:20240409T203000
DTSTAMP:20260422T230646
CREATED:20240404T132026Z
LAST-MODIFIED:20240404T132026Z
UID:1367-1712687400-1712694600@kathleenpeace.com
SUMMARY:Daddy Dee's Parking Lot Concert
DESCRIPTION:This is a fun way to have dessert! \nI will be performing with The Fabulous Brylcream Boys at Daddy Dee’s. Bring a chair and enjoy the music and some Ice Cream at this FREE Parking Lot Concert!
URL:https://kathleenpeace.com/events/daddy-dees-parking-lot-concert/
LOCATION:Open to Everyone!
CATEGORIES:Guest Appearance
ATTACH;FMTTYPE=image/jpeg:https://kathleenpeace.com/wp-content/uploads/2024/03/3.jpg
END:VEVENT
BEGIN:VEVENT
DTSTART;TZID=UTC:20240406T060000
DTEND;TZID=UTC:20240406T210000
DTSTAMP:20260422T230646
CREATED:20231219T000423Z
LAST-MODIFIED:20240319T004237Z
UID:1242-1712383200-1712437200@kathleenpeace.com
SUMMARY:River Hall
DESCRIPTION:A members only affair
URL:https://kathleenpeace.com/events/river-hall-2/
LOCATION:A Members Only
CATEGORIES:Guest Appearance,Private Affair
ATTACH;FMTTYPE=image/jpeg:https://kathleenpeace.com/wp-content/uploads/2023/09/3232251200814796500.jpg
END:VEVENT
BEGIN:VEVENT
DTSTART;TZID=UTC:20240405T170000
DTEND;TZID=UTC:20240405T210000
DTSTAMP:20260422T230646
CREATED:20240122T231231Z
LAST-MODIFIED:20240122T231508Z
UID:1293-1712336400-1712350800@kathleenpeace.com
SUMMARY:Art Walk Downtown Fort Meyers
DESCRIPTION:A wonderful evening of song and dance\, food and drink\, Fabulously talented Artisans and lots of fun!
URL:https://kathleenpeace.com/events/music-walk-downtown-fort-meyers/
LOCATION:Downtown Fort Myers River District\, Fort Myers\, FL\, United States
CATEGORIES:Come and sing one with me,Solo Performance
ATTACH;FMTTYPE=image/jpeg:https://kathleenpeace.com/wp-content/uploads/2022/08/artwalk2022.jpg
END:VEVENT
BEGIN:VEVENT
DTSTART;TZID=UTC:20240331T130000
DTEND;TZID=UTC:20240331T160000
DTSTAMP:20260422T230646
CREATED:20240220T195809Z
LAST-MODIFIED:20240312T165305Z
UID:1315-1711890000-1711900800@kathleenpeace.com
SUMMARY:Miramar at Kay Jewelers
DESCRIPTION:It’s always a good time… and the Popcorn Shack is right next door!
URL:https://kathleenpeace.com/events/miramar-at-ay-jewelers/
LOCATION:Open to Everyone!
CATEGORIES:Guest Appearance,Solo Performance
ATTACH;FMTTYPE=image/jpeg:https://kathleenpeace.com/wp-content/uploads/2019/02/403821_3212992858025_1165999986_n.jpg
END:VEVENT
END:VCALENDAR