BEGIN:VCALENDAR
VERSION:2.0
PRODID:-//Peace &amp; Music - ECPv6.15.13//NONSGML v1.0//EN
CALSCALE:GREGORIAN
METHOD:PUBLISH
X-ORIGINAL-URL:https://kathleenpeace.com
X-WR-CALDESC:Events for Peace &amp; Music
REFRESH-INTERVAL;VALUE=DURATION:PT1H
X-Robots-Tag:noindex
X-PUBLISHED-TTL:PT1H
BEGIN:VTIMEZONE
TZID:UTC
BEGIN:STANDARD
TZOFFSETFROM:+0000
TZOFFSETTO:+0000
TZNAME:UTC
DTSTART:20250101T000000
END:STANDARD
END:VTIMEZONE
BEGIN:VEVENT
DTSTART;TZID=UTC:20260420T180000
DTEND;TZID=UTC:20260420T210000
DTSTAMP:20260422T003155
CREATED:20260410T003839Z
LAST-MODIFIED:20260410T003839Z
UID:2109-1776708000-1776718800@kathleenpeace.com
SUMMARY:Daddy dees
DESCRIPTION:A parking lot concert not to be missed
URL:https://kathleenpeace.com/events/daddy-dees/
ATTACH;FMTTYPE=image/jpeg:https://kathleenpeace.com/wp-content/uploads/2026/01/FB_IMG_1769085151420.jpg
END:VEVENT
BEGIN:VEVENT
DTSTART;TZID=UTC:20260421T200000
DTEND;TZID=UTC:20260421T230000
DTSTAMP:20260422T003155
CREATED:20260418T014701Z
LAST-MODIFIED:20260418T014701Z
UID:2123-1776801600-1776812400@kathleenpeace.com
SUMMARY:Virgilio's
DESCRIPTION:Working with a great crew. Larry Smith\, Christine cordone\, and Skipper
URL:https://kathleenpeace.com/events/virgilios/
ATTACH;FMTTYPE=image/jpeg:https://kathleenpeace.com/wp-content/uploads/2026/04/PXL_20260328_211307153.MP3-scaled.jpg
END:VEVENT
BEGIN:VEVENT
DTSTART;TZID=UTC:20260501T170000
DTEND;TZID=UTC:20260501T210000
DTSTAMP:20260422T003155
CREATED:20251024T225805Z
LAST-MODIFIED:20251024T225805Z
UID:2002-1777654800-1777669200@kathleenpeace.com
SUMMARY:Art Walk
DESCRIPTION:See you there!
URL:https://kathleenpeace.com/events/art-walk-14/
LOCATION:Open to Everyone!
ATTACH;FMTTYPE=image/jpeg:https://kathleenpeace.com/wp-content/uploads/2022/11/50556468_219833458834590_5506385825681637376_n.jpg
END:VEVENT
BEGIN:VEVENT
DTSTART;TZID=UTC:20260518T180000
DTEND;TZID=UTC:20260518T210000
DTSTAMP:20260422T003155
CREATED:20260410T003950Z
LAST-MODIFIED:20260410T003950Z
UID:2111-1779127200-1779138000@kathleenpeace.com
SUMMARY:Daddy D's
DESCRIPTION:Don’t miss out on these parking lot concerts. They’re so cool
URL:https://kathleenpeace.com/events/daddy-ds/
ATTACH;FMTTYPE=image/png:https://kathleenpeace.com/wp-content/uploads/2026/04/IMG_20260406_205506.png
END:VEVENT
BEGIN:VEVENT
DTSTART;TZID=UTC:20260525T110000
DTEND;TZID=UTC:20260525T150000
DTSTAMP:20260422T003155
CREATED:20250701T200229Z
LAST-MODIFIED:20260410T004345Z
UID:1899-1779706800-1779721200@kathleenpeace.com
SUMMARY:Vasari
DESCRIPTION:A private affair
URL:https://kathleenpeace.com/events/art-walk-11/
LOCATION:Downtown Fort Myers River District\, Fort Myers\, FL\, United States
CATEGORIES:Solo Performance
ATTACH;FMTTYPE=image/jpeg:https://kathleenpeace.com/wp-content/uploads/2022/11/50556468_219833458834590_5506385825681637376_n.jpg
END:VEVENT
BEGIN:VEVENT
DTSTART;TZID=UTC:20261213T200000
DTEND;TZID=UTC:20261213T220000
DTSTAMP:20260422T003155
CREATED:20260410T005149Z
LAST-MODIFIED:20260410T005229Z
UID:2117-1797192000-1797199200@kathleenpeace.com
SUMMARY:Italian American club
DESCRIPTION:A private affair
URL:https://kathleenpeace.com/events/italian-american-club/
ATTACH;FMTTYPE=image/jpeg:https://kathleenpeace.com/wp-content/uploads/2026/04/PXL_20260328_211307153.MP3-scaled.jpg
END:VEVENT
END:VCALENDAR